BEGIN:VCALENDAR
VERSION:2.0
PRODID:-//Mairie d&#039;Eaunes - ECPv6.0.11//NONSGML v1.0//EN
CALSCALE:GREGORIAN
METHOD:PUBLISH
X-ORIGINAL-URL:https://www.mediaeaunes.fr
X-WR-CALDESC:évènements pour Mairie d&#039;Eaunes
REFRESH-INTERVAL;VALUE=DURATION:PT1H
X-Robots-Tag:noindex
X-PUBLISHED-TTL:PT1H
BEGIN:VTIMEZONE
TZID:Europe/Paris
BEGIN:DAYLIGHT
TZOFFSETFROM:+0100
TZOFFSETTO:+0200
TZNAME:CEST
DTSTART:20250330T010000
END:DAYLIGHT
BEGIN:STANDARD
TZOFFSETFROM:+0200
TZOFFSETTO:+0100
TZNAME:CET
DTSTART:20251026T010000
END:STANDARD
BEGIN:DAYLIGHT
TZOFFSETFROM:+0100
TZOFFSETTO:+0200
TZNAME:CEST
DTSTART:20260329T010000
END:DAYLIGHT
BEGIN:STANDARD
TZOFFSETFROM:+0200
TZOFFSETTO:+0100
TZNAME:CET
DTSTART:20261025T010000
END:STANDARD
END:VTIMEZONE
BEGIN:VEVENT
DTSTART;TZID=Europe/Paris:20251124T080000
DTEND;TZID=Europe/Paris:20251224T170000
DTSTAMP:20260423T182241
CREATED:20251201T153212Z
LAST-MODIFIED:20251201T153214Z
UID:10000558-1763971200-1766595600@www.mediaeaunes.fr
SUMMARY:Grand jeu de Noël : La chasse aux lutins
DESCRIPTION:Organisé par l’Association des commerçants \n\n\n\nLa chasse aux lutins est ouverte !  \n\n\n\nDu 24 novembre au 24 décembre\, tente de gagner un des nombreux cadeaux en trouvant les lutins farceurs cachés dans les vitrines des commerces d’Eaunes. Demande ton bulletin de participation dans un des commerces où tu verras l’affiche de l’opération. Dès que tu trouves un lutin\, le commerçant apposera son tampon sur une case de ton bulletin. Dès que tu as trouvé 5 lutins\, tu peux donner ton bulletin au commerçant pour participer au tirage au sort et tenter de gagner un des nombreux lots !
URL:https://www.mediaeaunes.fr/evenement/grand-jeu-de-noel-la-chasse-aux-lutins/
CATEGORIES:Animation,Associations
ATTACH;FMTTYPE=image/jpeg:https://www.mediaeaunes.fr/wp-content/uploads/2025/12/affiche-acae-noel.jpg
END:VEVENT
BEGIN:VEVENT
DTSTART;TZID=Europe/Paris:20251213T100000
DTEND;TZID=Europe/Paris:20251214T190000
DTSTAMP:20260423T182241
CREATED:20251201T135309Z
LAST-MODIFIED:20251201T152525Z
UID:10000556-1765620000-1765738800@www.mediaeaunes.fr
SUMMARY:Salon du bien-être
DESCRIPTION:Organisé par l’association Les Belles Journées du Bien-être \n\n\n\n10 ème édition du salon « Les belles journées du bien-être » samedi 13 et dimanche 14 décembre 2025 au Centre Hermès. \n\n\n\n\nEntrée gratuite\n\n\n\nConférences et ateliers gratuits\n\n\n\nIdées cadeaux\n\n\n\nBuvette et restauration sur place
URL:https://www.mediaeaunes.fr/evenement/salon-du-bien-etre-4/
LOCATION:Centre Hermès\, 145 Avenue de la Mairie\, eaunes\, 31600\, France
CATEGORIES:Associations,Événement
ATTACH;FMTTYPE=image/png:https://www.mediaeaunes.fr/wp-content/uploads/2025/12/bien-etre1.png
END:VEVENT
BEGIN:VEVENT
DTSTART;TZID=Europe/Paris:20251231T200000
DTEND;TZID=Europe/Paris:20260101T050000
DTSTAMP:20260423T182241
CREATED:20251201T151908Z
LAST-MODIFIED:20251202T132049Z
UID:10000557-1767211200-1767243600@www.mediaeaunes.fr
SUMMARY:Réveillon du Nouvel an
DESCRIPTION:Organisé par le Rugby Club Muretain \n\n\n\nCélébrons la nouvelle année ensemble lors d’un réveillon dansant animé par le groupe FlyBlues et DJ Jeff. \n\n\n\n\nAnimations\, tombola et surprises.\n\n\n\nMENU RÉVEILLON – 80 € / MENU ENFANT (-12 ans) – 20 €\n\n\n\nPAR ESPÈCES OU PAR CHÈQUE\, une permanence est tenue lors des réceptions à domicile.\n\n\n\n\n\nMENU RÉVEILLON – 80 €\n\n\n\nCocktails des îles\n\n\n\nBuffet de crustacés\n\n\n\nSalade de Noël\, foie gras\n\n\n\nTrou Normand\n\n\n\nTournedos sauce grand veneur et poêlée de légumes\n\n\n\nPlateau de fromages\n\n\n\nBuffet de desserts et mignardises\n\n\n\nVins – blanc\, rouge\, rosé / Champagne – 1 bouteille pour 5 pers. / Café\n\n\n\n\n\nMENU ENFANT (-12 ans) – 20 €\n\n\n\nSalade de Noël\, foie gras\n\n\n\nFilet de volaille et pommes rissolées\n\n\n\nBuffet de desserts et mignardises\n\n\n\nJus de fruits\n\n\n\n\nMercredi 31 décembre à partir de 20h00 au Centre Hermès \n\n\n\nRéservation ici
URL:https://www.mediaeaunes.fr/evenement/reveillon-du-nouvel-an/
LOCATION:Centre Hermès\, 145 Avenue de la Mairie\, eaunes\, 31600\, France
CATEGORIES:Associations,Événement
ATTACH;FMTTYPE=image/jpeg:https://www.mediaeaunes.fr/wp-content/uploads/2025/12/reveillon-rugby.jpg
END:VEVENT
END:VCALENDAR