BEGIN:VCALENDAR
VERSION:2.0
PRODID:-//Mairie d&#039;Eaunes - ECPv6.0.11//NONSGML v1.0//EN
CALSCALE:GREGORIAN
METHOD:PUBLISH
X-ORIGINAL-URL:https://www.mediaeaunes.fr
X-WR-CALDESC:évènements pour Mairie d&#039;Eaunes
REFRESH-INTERVAL;VALUE=DURATION:PT1H
X-Robots-Tag:noindex
X-PUBLISHED-TTL:PT1H
BEGIN:VTIMEZONE
TZID:Europe/Paris
BEGIN:DAYLIGHT
TZOFFSETFROM:+0100
TZOFFSETTO:+0200
TZNAME:CEST
DTSTART:20250330T010000
END:DAYLIGHT
BEGIN:STANDARD
TZOFFSETFROM:+0200
TZOFFSETTO:+0100
TZNAME:CET
DTSTART:20251026T010000
END:STANDARD
END:VTIMEZONE
BEGIN:VEVENT
DTSTART;TZID=Europe/Paris:20250927T090000
DTEND;TZID=Europe/Paris:20250927T180000
DTSTAMP:20260426T055531
CREATED:20250909T153219Z
LAST-MODIFIED:20250909T153220Z
UID:10000539-1758963600-1758996000@www.mediaeaunes.fr
SUMMARY:Bourse aux vêtements
DESCRIPTION:L’association Philanthrope organise une bourse aux vêtements (0-16 ans + puériculture) automne-hiver. Pour déposer des vêtements\, vous pouvez envoyer un mail à asso.philanthrope.eaunes@gmail.com. – Inscriptions obligatoires– Renseignements au 06 95 91 92 27 \n\n\n\n\nSamedi 27 septembre\n\n\n\nVente de 9h00 à 13h00 et de 14h00 à 18h00\n\n\n\nCentre Hermès
URL:https://www.mediaeaunes.fr/evenement/bourse-aux-vetements-8/
LOCATION:Centre Hermès\, 145 Avenue de la Mairie\, eaunes\, 31600\, France
CATEGORIES:Associations
ATTACH;FMTTYPE=image/jpeg:https://www.mediaeaunes.fr/wp-content/uploads/2023/10/bourse-aux-vetements.jpg
END:VEVENT
END:VCALENDAR