BEGIN:VCALENDAR
VERSION:2.0
PRODID:-//Mairie d&#039;Eaunes - ECPv6.0.11//NONSGML v1.0//EN
CALSCALE:GREGORIAN
METHOD:PUBLISH
X-WR-CALNAME:Mairie d&#039;Eaunes
X-ORIGINAL-URL:https://www.mediaeaunes.fr
X-WR-CALDESC:évènements pour Mairie d&#039;Eaunes
REFRESH-INTERVAL;VALUE=DURATION:PT1H
X-Robots-Tag:noindex
X-PUBLISHED-TTL:PT1H
BEGIN:VTIMEZONE
TZID:Europe/Paris
BEGIN:DAYLIGHT
TZOFFSETFROM:+0100
TZOFFSETTO:+0200
TZNAME:CEST
DTSTART:20250330T010000
END:DAYLIGHT
BEGIN:STANDARD
TZOFFSETFROM:+0200
TZOFFSETTO:+0100
TZNAME:CET
DTSTART:20251026T010000
END:STANDARD
END:VTIMEZONE
BEGIN:VEVENT
DTSTART;TZID=Europe/Paris:20251108T183000
DTEND;TZID=Europe/Paris:20251109T010000
DTSTAMP:20260423T211936
CREATED:20251017T135347Z
LAST-MODIFIED:20251017T135430Z
UID:10000548-1762626600-1762650000@www.mediaeaunes.fr
SUMMARY:Halloween & El dia de los muertos
DESCRIPTION:Le Comité des Fêtes organise une soirée « Halloween & El dia de los muertos » ! \n\n\n\nPréparez-vous pour LA soirée la plus terrifiante et festive de l’année !Au programme : stand de maquillage\, photobooth\, pinata\, grand concours de déguisements\, blind test musical et DJ. \n\n\n\nSoirée sur réservation uniquement : tickets disponibles chez Vival et Sylvie Coiffure\, ou directement via le QR Code de l’affiche. \n\n\n\nPlus d’infos au 06 02 50 69 11 \n\n\n\n\nSamedi 8 novembre\n\n\n\nDe 18h30 à 1h00 \n\n\n\nCentre Hermès
URL:https://www.mediaeaunes.fr/evenement/halloween-el-dia-de-los-muertos/
LOCATION:Centre Hermès\, 145 Avenue de la Mairie\, eaunes\, 31600\, France
CATEGORIES:Associations,Événement
ATTACH;FMTTYPE=image/png:https://www.mediaeaunes.fr/wp-content/uploads/2025/10/halloween-el-dia-de-los-muertos.png
END:VEVENT
END:VCALENDAR