BEGIN:VCALENDAR
VERSION:2.0
PRODID:-//Mairie d&#039;Eaunes - ECPv6.0.11//NONSGML v1.0//EN
CALSCALE:GREGORIAN
METHOD:PUBLISH
X-WR-CALNAME:Mairie d&#039;Eaunes
X-ORIGINAL-URL:https://www.mediaeaunes.fr
X-WR-CALDESC:évènements pour Mairie d&#039;Eaunes
REFRESH-INTERVAL;VALUE=DURATION:PT1H
X-Robots-Tag:noindex
X-PUBLISHED-TTL:PT1H
BEGIN:VTIMEZONE
TZID:Europe/Paris
BEGIN:DAYLIGHT
TZOFFSETFROM:+0100
TZOFFSETTO:+0200
TZNAME:CEST
DTSTART:20260329T010000
END:DAYLIGHT
BEGIN:STANDARD
TZOFFSETFROM:+0200
TZOFFSETTO:+0100
TZNAME:CET
DTSTART:20261025T010000
END:STANDARD
END:VTIMEZONE
BEGIN:VEVENT
DTSTART;TZID=Europe/Paris:20260214T090000
DTEND;TZID=Europe/Paris:20260214T123000
DTSTAMP:20260423T205539
CREATED:20260202T133555Z
LAST-MODIFIED:20260202T134428Z
UID:10000575-1771059600-1771072200@www.mediaeaunes.fr
SUMMARY:Atelier yoga de Samara
DESCRIPTION:Offrez-vous un moment de détente et de vitalité avec Isabelle. Une pratique accessible à tous\, mêlant mouvements thérapeutiques et musiques inspirantes.  \n\n\n\nOrganisé par l’association Au cœur de Samara \n\n\n\n\nSamedi 14 février de 9h00 à 12h30\n\n\n\nCentre Hermès\n\n\n\nTarif : 40€\n\n\n\nInscriptions et infos complémentaires au 06 52 96 33 31
URL:https://www.mediaeaunes.fr/evenement/atelier-yoga-de-samara-2/
LOCATION:Centre Hermès\, 145 Avenue de la Mairie\, eaunes\, 31600\, France
CATEGORIES:Associations,Atelier
ATTACH;FMTTYPE=image/png:https://www.mediaeaunes.fr/wp-content/uploads/2025/11/yoga1.png
END:VEVENT
BEGIN:VEVENT
DTSTART;TZID=Europe/Paris:20260225T140000
DTEND;TZID=Europe/Paris:20260225T160000
DTSTAMP:20260423T205539
CREATED:20260126T094620Z
LAST-MODIFIED:20260126T094623Z
UID:10000572-1772028000-1772035200@www.mediaeaunes.fr
SUMMARY:Atelier création d'un Yonkoma
DESCRIPTION:Initiez-vous au yonkoma\, un manga en quatre cases qui mêle humour\, poésie et émotion. Un atelier créatif animé par des artistes formés auprès de mangaka japonais. \n\n\n\n\nMercredi 25 février de 14h00 à 16h00\n\n\n\nMédiathèque\n\n\n\nGratuit\n\n\n\nA partir de 10 ans\n\n\n\n\nInfos et inscriptions : 05 62 23 23 22 / media.eaunes@mediaeaunes.fr
URL:https://www.mediaeaunes.fr/evenement/atelier-creation-dun-yonkoma/
LOCATION:Médiathèque Marie de France\, 785 Avenue de la Mairie\, Eaunes\, 31600\, France
CATEGORIES:Animation,Atelier,Culture,Événement
ATTACH;FMTTYPE=image/png:https://www.mediaeaunes.fr/wp-content/uploads/2026/01/RS-Atelier-yonkoma.png
ORGANIZER;CN="M%C3%A9diath%C3%A8que":MAILTO:media.eaunes@mediaeaunes.fr
END:VEVENT
BEGIN:VEVENT
DTSTART;TZID=Europe/Paris:20260228T100000
DTEND;TZID=Europe/Paris:20260228T120000
DTSTAMP:20260423T205539
CREATED:20260126T104323Z
LAST-MODIFIED:20260126T104326Z
UID:10000573-1772272800-1772280000@www.mediaeaunes.fr
SUMMARY:Des graines dans ma grainothèque…
DESCRIPTION:La grainothèque reprend vie grâce à un moment de partage et de convivialité autour d’un petit déjeuner suivi de la mise en sachets de graines.Un temps d’échange ouvert à tous pour favoriser le partage de semences. \n\n\n\nAvec les jardins partagés\, Eaunes y plante. \n\n\n\n\nSamedi 28 février à 11h00\n\n\n\nMédiathèque\n\n\n\nGratuit\n\n\n\nInfos au 05 62 23 23 22
URL:https://www.mediaeaunes.fr/evenement/des-graines-dans-ma-grainotheque/
LOCATION:Médiathèque Marie de France\, 785 Avenue de la Mairie\, Eaunes\, 31600\, France
CATEGORIES:Animation,Atelier,Culture
ATTACH;FMTTYPE=image/png:https://www.mediaeaunes.fr/wp-content/uploads/2026/01/RS-Des-graines-dans-ma-grainotheque.png
ORGANIZER;CN="M%C3%A9diath%C3%A8que":MAILTO:media.eaunes@mediaeaunes.fr
END:VEVENT
END:VCALENDAR