BEGIN:VCALENDAR
VERSION:2.0
PRODID:-//Mairie d&#039;Eaunes - ECPv6.0.11//NONSGML v1.0//EN
CALSCALE:GREGORIAN
METHOD:PUBLISH
X-WR-CALNAME:Mairie d&#039;Eaunes
X-ORIGINAL-URL:https://www.mediaeaunes.fr
X-WR-CALDESC:évènements pour Mairie d&#039;Eaunes
REFRESH-INTERVAL;VALUE=DURATION:PT1H
X-Robots-Tag:noindex
X-PUBLISHED-TTL:PT1H
BEGIN:VTIMEZONE
TZID:Europe/Paris
BEGIN:DAYLIGHT
TZOFFSETFROM:+0100
TZOFFSETTO:+0200
TZNAME:CEST
DTSTART:20250330T010000
END:DAYLIGHT
BEGIN:STANDARD
TZOFFSETFROM:+0200
TZOFFSETTO:+0100
TZNAME:CET
DTSTART:20251026T010000
END:STANDARD
END:VTIMEZONE
BEGIN:VEVENT
DTSTART;TZID=Europe/Paris:20251001T080000
DTEND;TZID=Europe/Paris:20251128T170000
DTSTAMP:20260423T230110
CREATED:20250916T130110Z
LAST-MODIFIED:20250916T130112Z
UID:10000543-1759305600-1764349200@www.mediaeaunes.fr
SUMMARY:Mois de la petite enfance – Exposition "Ephemeral Landscape"
DESCRIPTION:Découvrez une exposition « Ephemeral Landscape » (paysages éphémères) pleine de couleurs grâce aux œuvres de l’artiste Florence Jourdàa\, qui met en lumière les animaux en voie d’extinction. \n\n\n\nEn parallèle\, Marielle\, médiathécaire\, propose un parcours sensoriel et un décor immersif pour éveiller la curiosité et les sens des petits et grands. Lectures animées\, vidéos documentaires\, tapis de lecture et objets à manipuler viendront enrichir l’expérience. \n\n\n\n\nExposition du 1er octobre au 28 novembre\n\n\n\nInstallation des médiathécaires du 1er au 29 octobre\n\n\n\nTout public\n\n\n\nGratuit
URL:https://www.mediaeaunes.fr/evenement/mois-de-la-petite-enfance-exposition-ephemeral-landscape/
LOCATION:Médiathèque Marie de France\, 785 Avenue de la Mairie\, Eaunes\, 31600\, France
CATEGORIES:Culture,Exposition
ATTACH;FMTTYPE=image/png:https://www.mediaeaunes.fr/wp-content/uploads/2025/09/Les-petits-scientifiques-ephemeral-landscape-FB.png
ORGANIZER;CN="M%C3%A9diath%C3%A8que":MAILTO:media.eaunes@mediaeaunes.fr
END:VEVENT
BEGIN:VEVENT
DTSTART;TZID=Europe/Paris:20251108T103000
DTEND;TZID=Europe/Paris:20251108T123000
DTSTAMP:20260423T230110
CREATED:20251024T085935Z
LAST-MODIFIED:20251028T101755Z
UID:10000549-1762597800-1762605000@www.mediaeaunes.fr
SUMMARY:Atelier "Lovely Bag"
DESCRIPTION:La Médiathèque organise un atelier « Lovely Bag » qui aura lieu le samedi 8 novembre. Cet atelier de couture participative a pour objectif la création de Lovely Bags\, sacs symboliques destinés à soutenir les femmes après un cancer du sein. \n\n\n\nÀ cette occasion\, la Médiathèque met également en place une collecte de tissus lavables destinés à la fabrication de sacs à drains. \n\n\n\n\nSamedi 8 novembre à partir de 10h30\n\n\n\nMédiathèque\n\n\n\nRenseignements et inscriptions au 05 62 23 23 22
URL:https://www.mediaeaunes.fr/evenement/atelier-lovely-bag/
LOCATION:Médiathèque Marie de France\, 785 Avenue de la Mairie\, Eaunes\, 31600\, France
CATEGORIES:Atelier,Culture
ATTACH;FMTTYPE=image/png:https://www.mediaeaunes.fr/wp-content/uploads/2025/10/lovely-bag2.png
ORGANIZER;CN="M%C3%A9diath%C3%A8que":MAILTO:media.eaunes@mediaeaunes.fr
END:VEVENT
BEGIN:VEVENT
DTSTART;TZID=Europe/Paris:20251115T110000
DTEND;TZID=Europe/Paris:20251115T113000
DTSTAMP:20260423T230110
CREATED:20251028T110544Z
LAST-MODIFIED:20251028T110924Z
UID:10000550-1763204400-1763206200@www.mediaeaunes.fr
SUMMARY:Place aux Histoires
DESCRIPTION:Un doux moment de lecture pour les petits âgés de 0 à 6 ans et leurs parents ! La bénévole Magalie prendra en charge la lecture. \n\n\n\n\nSamedi 15 novembre\n\n\n\n11h00\n\n\n\nMédiathèque\n\n\n\nGratuit\n\n\n\nSur inscription au 05 62 23 23 22
URL:https://www.mediaeaunes.fr/evenement/place-aux-histoires-6/
LOCATION:Médiathèque Marie de France\, 785 Avenue de la Mairie\, Eaunes\, 31600\, France
CATEGORIES:Animation,Atelier,Culture,Rendez-vous régulier
ATTACH;FMTTYPE=image/png:https://www.mediaeaunes.fr/wp-content/uploads/2025/10/Affiche-Place-aux-histoires-15.11.png
ORGANIZER;CN="M%C3%A9diath%C3%A8que":MAILTO:media.eaunes@mediaeaunes.fr
END:VEVENT
BEGIN:VEVENT
DTSTART;TZID=Europe/Paris:20251115T210000
DTEND;TZID=Europe/Paris:20251115T223000
DTSTAMP:20260423T230110
CREATED:20251015T100050Z
LAST-MODIFIED:20251017T123415Z
UID:10000547-1763240400-1763245800@www.mediaeaunes.fr
SUMMARY:Echoes - Pink Floyd
DESCRIPTION:Concert Tribute \n\n\n\nDécouvrez un hommage à Pink Floyd\, avec passion et fidélité\, pour faire revivre l’univers de ce groupe légendaire.  \n\n\n\n\nSamedi 15 novembre\n\n\n\n21h00\n\n\n\nCentre Hermès\n\n\n\nGratuit\n\n\n\nSur réservation
URL:https://www.mediaeaunes.fr/evenement/echoes-pink-floyd/
LOCATION:Centre Hermès\, 145 Avenue de la Mairie\, eaunes\, 31600\, France
CATEGORIES:Concert,Culture,Spectacle
ATTACH;FMTTYPE=image/png:https://www.mediaeaunes.fr/wp-content/uploads/2025/10/Echoes-Pink-Floyd-FB-num.-licence-spectacle.png
END:VEVENT
BEGIN:VEVENT
DTSTART;TZID=Europe/Paris:20251122T110000
DTEND;TZID=Europe/Paris:20251122T120000
DTSTAMP:20260423T230110
CREATED:20251028T110838Z
LAST-MODIFIED:20251028T110841Z
UID:10000551-1763809200-1763812800@www.mediaeaunes.fr
SUMMARY:BlaBlaClub
DESCRIPTION:Partagez vos coups de cœur littéraires\, musicaux ou cinématographiques dans la convivialité ! \n\n\n\n\nSamedi 22 novembre\n\n\n\n11h00\n\n\n\nMédiathèque\n\n\n\nGratuit\n\n\n\nSur inscription au 05 62 23 23 22
URL:https://www.mediaeaunes.fr/evenement/blablaclub-8/
LOCATION:Médiathèque Marie de France\, 785 Avenue de la Mairie\, Eaunes\, 31600\, France
CATEGORIES:Animation,Atelier,Culture,Rendez-vous régulier
ATTACH;FMTTYPE=image/png:https://www.mediaeaunes.fr/wp-content/uploads/2025/10/blablaclub-fb-22.11.png
ORGANIZER;CN="M%C3%A9diath%C3%A8que":MAILTO:media.eaunes@mediaeaunes.fr
END:VEVENT
BEGIN:VEVENT
DTSTART;TZID=Europe/Paris:20251123T100000
DTEND;TZID=Europe/Paris:20251123T180000
DTSTAMP:20260423T230110
CREATED:20251106T103414Z
LAST-MODIFIED:20251106T103417Z
UID:10000553-1763892000-1763920800@www.mediaeaunes.fr
SUMMARY:Marché de Noël
DESCRIPTION:Marché de Noël à Eaunes ! \n\n\n\nOrganisé par l’ACAE – Association des Commerçants et Artisans d’Eaunes \n\n\n\nVenez partager avec nous la magie de Noël ! Au programme :  \n\n\n\n\nPlus de 40 exposants\n\n\n\nAteliers créatifs pour les enfants \n\n\n\nVisite du Père-Noël\n\n\n\nMaquillage pour les petits\n\n\n\nManège extérieur\n\n\n\nGrande tombola\n\n\n\nEspace restauration et buvette : assiette d’huitres\, saucisse-frites\, vin blanc\, foodtruck sucré\n\n\n\n\nUne journée festive\, conviviale et remplie de surprises pour toute la famille.N’hésitez pas à venir nombreux à partager ce moment magique avec nous !  \n\n\n\n\nDimanche 23 novembre\n\n\n\nDe 10h00 à 18h00\n\n\n\nCentre Hermès – 145 Avenue de la Mairie
URL:https://www.mediaeaunes.fr/evenement/marche-de-noel/
LOCATION:Centre Hermès\, 145 Avenue de la Mairie\, eaunes\, 31600\, France
CATEGORIES:Animation,Associations,Événement,Marché
ATTACH;FMTTYPE=image/png:https://www.mediaeaunes.fr/wp-content/uploads/2025/11/marche-de-noel-visuel.png
END:VEVENT
BEGIN:VEVENT
DTSTART;TZID=Europe/Paris:20251124T080000
DTEND;TZID=Europe/Paris:20251224T170000
DTSTAMP:20260423T230110
CREATED:20251201T153212Z
LAST-MODIFIED:20251201T153214Z
UID:10000558-1763971200-1766595600@www.mediaeaunes.fr
SUMMARY:Grand jeu de Noël : La chasse aux lutins
DESCRIPTION:Organisé par l’Association des commerçants \n\n\n\nLa chasse aux lutins est ouverte !  \n\n\n\nDu 24 novembre au 24 décembre\, tente de gagner un des nombreux cadeaux en trouvant les lutins farceurs cachés dans les vitrines des commerces d’Eaunes. Demande ton bulletin de participation dans un des commerces où tu verras l’affiche de l’opération. Dès que tu trouves un lutin\, le commerçant apposera son tampon sur une case de ton bulletin. Dès que tu as trouvé 5 lutins\, tu peux donner ton bulletin au commerçant pour participer au tirage au sort et tenter de gagner un des nombreux lots !
URL:https://www.mediaeaunes.fr/evenement/grand-jeu-de-noel-la-chasse-aux-lutins/
CATEGORIES:Animation,Associations
ATTACH;FMTTYPE=image/jpeg:https://www.mediaeaunes.fr/wp-content/uploads/2025/12/affiche-acae-noel.jpg
END:VEVENT
END:VCALENDAR