BEGIN:VCALENDAR
VERSION:2.0
PRODID:-//Mairie d&#039;Eaunes - ECPv6.0.11//NONSGML v1.0//EN
CALSCALE:GREGORIAN
METHOD:PUBLISH
X-WR-CALNAME:Mairie d&#039;Eaunes
X-ORIGINAL-URL:https://www.mediaeaunes.fr
X-WR-CALDESC:évènements pour Mairie d&#039;Eaunes
REFRESH-INTERVAL;VALUE=DURATION:PT1H
X-Robots-Tag:noindex
X-PUBLISHED-TTL:PT1H
BEGIN:VTIMEZONE
TZID:Europe/Paris
BEGIN:DAYLIGHT
TZOFFSETFROM:+0100
TZOFFSETTO:+0200
TZNAME:CEST
DTSTART:20250330T010000
END:DAYLIGHT
BEGIN:STANDARD
TZOFFSETFROM:+0200
TZOFFSETTO:+0100
TZNAME:CET
DTSTART:20251026T010000
END:STANDARD
BEGIN:DAYLIGHT
TZOFFSETFROM:+0100
TZOFFSETTO:+0200
TZNAME:CEST
DTSTART:20260329T010000
END:DAYLIGHT
BEGIN:STANDARD
TZOFFSETFROM:+0200
TZOFFSETTO:+0100
TZNAME:CET
DTSTART:20261025T010000
END:STANDARD
END:VTIMEZONE
BEGIN:VEVENT
DTSTART;TZID=Europe/Paris:20251124T080000
DTEND;TZID=Europe/Paris:20251224T170000
DTSTAMP:20260423T213500
CREATED:20251201T153212Z
LAST-MODIFIED:20251201T153214Z
UID:10000558-1763971200-1766595600@www.mediaeaunes.fr
SUMMARY:Grand jeu de Noël : La chasse aux lutins
DESCRIPTION:Organisé par l’Association des commerçants \n\n\n\nLa chasse aux lutins est ouverte !  \n\n\n\nDu 24 novembre au 24 décembre\, tente de gagner un des nombreux cadeaux en trouvant les lutins farceurs cachés dans les vitrines des commerces d’Eaunes. Demande ton bulletin de participation dans un des commerces où tu verras l’affiche de l’opération. Dès que tu trouves un lutin\, le commerçant apposera son tampon sur une case de ton bulletin. Dès que tu as trouvé 5 lutins\, tu peux donner ton bulletin au commerçant pour participer au tirage au sort et tenter de gagner un des nombreux lots !
URL:https://www.mediaeaunes.fr/evenement/grand-jeu-de-noel-la-chasse-aux-lutins/
CATEGORIES:Animation,Associations
ATTACH;FMTTYPE=image/jpeg:https://www.mediaeaunes.fr/wp-content/uploads/2025/12/affiche-acae-noel.jpg
END:VEVENT
BEGIN:VEVENT
DTSTART;TZID=Europe/Paris:20251203T080000
DTEND;TZID=Europe/Paris:20260107T170000
DTSTAMP:20260423T213500
CREATED:20251201T161942Z
LAST-MODIFIED:20251203T143834Z
UID:10000560-1764748800-1767805200@www.mediaeaunes.fr
SUMMARY:Rencontre-moi une histoire
DESCRIPTION:La magie de Noël grâce à de grandes illustrations tout droit sorties d’albums et de contes.  \n\n\n\nUne exposition mise en place par l’équipe de la Médiathèque du 3 décembre au 7 janvier 2026.
URL:https://www.mediaeaunes.fr/evenement/rencontre-moi-une-histoire/
LOCATION:Médiathèque Marie de France\, 785 Avenue de la Mairie\, Eaunes\, 31600\, France
CATEGORIES:Culture,Exposition
ATTACH;FMTTYPE=image/png:https://www.mediaeaunes.fr/wp-content/uploads/2025/12/Rencontre-moi-une-histoire-format-FB.png
ORGANIZER;CN="M%C3%A9diath%C3%A8que":MAILTO:media.eaunes@mediaeaunes.fr
END:VEVENT
BEGIN:VEVENT
DTSTART;TZID=Europe/Paris:20251207T160000
DTEND;TZID=Europe/Paris:20251207T173000
DTSTAMP:20260423T213500
CREATED:20251107T090620Z
LAST-MODIFIED:20251107T094718Z
UID:10000555-1765123200-1765128600@www.mediaeaunes.fr
SUMMARY:Les Surprises du Lutin Croc'note
DESCRIPTION:Un spectacle tout public où un lutin du Père Noël doit retrouver les lettres perdues pour sauver cette belle fête… \n\n\n\nCroc’Note est un lutin du Père Noël et à quelques jour de Noël\, il se rend compte que le sac comprenant toutes les listes de jouets des enfants a disparu. Avec l’aide des Enfants et d’une multitude de personnages connus\, il va devoir retrouver les lettres des enfants afin que le Père Noël puisse bien faire sa distribution. \n\n\n\n\nDimanche 7 décembre\n\n\n\n16h00\n\n\n\nCentre Hermès\n\n\n\nGratuit\n\n\n\nSur inscription
URL:https://www.mediaeaunes.fr/evenement/les-surprises-du-lutin-crocnote/
LOCATION:Centre Hermès\, 145 Avenue de la Mairie\, eaunes\, 31600\, France
CATEGORIES:Animation,Culture,Événement,Spectacle
ATTACH;FMTTYPE=image/jpeg:https://www.mediaeaunes.fr/wp-content/uploads/2025/11/lutin-croc-note-FB-lumiere-retouchee.jpg
END:VEVENT
BEGIN:VEVENT
DTSTART;TZID=Europe/Paris:20251213T110000
DTEND;TZID=Europe/Paris:20251213T120000
DTSTAMP:20260423T213500
CREATED:20251211T131956Z
LAST-MODIFIED:20251211T131958Z
UID:10000562-1765623600-1765627200@www.mediaeaunes.fr
SUMMARY:Place aux histoires
DESCRIPTION:Un doux moment de lecture pour les petits et leurs parents avec la bénévole Magalie sur le thème de Noël !
URL:https://www.mediaeaunes.fr/evenement/place-aux-histoires-7/
LOCATION:Médiathèque Marie de France\, 785 Avenue de la Mairie\, Eaunes\, 31600\, France
CATEGORIES:Animation,Culture,Rendez-vous régulier
ATTACH;FMTTYPE=image/png:https://www.mediaeaunes.fr/wp-content/uploads/2025/12/Affiche-Place-aux-histoires-13.121.png
ORGANIZER;CN="M%C3%A9diath%C3%A8que":MAILTO:media.eaunes@mediaeaunes.fr
END:VEVENT
BEGIN:VEVENT
DTSTART;TZID=Europe/Paris:20251220T110000
DTEND;TZID=Europe/Paris:20251220T120000
DTSTAMP:20260423T213500
CREATED:20251202T105904Z
LAST-MODIFIED:20251211T125206Z
UID:10000561-1766228400-1766232000@www.mediaeaunes.fr
SUMMARY:Spectacle "C'était une nuit de Noël"
DESCRIPTION:La conteuse Kika Farré propose aux enfants et à leurs parents\, de découvrir un spectacle intitulé « C’était une nuit de Noël » où conte\, marionnettes et accordéon se mêlent sur le thème de la nuit de Noël ! \n\n\n\n\nSamedi 20 décembre à partir de 11h00\n\n\n\nMédiathèque\n\n\n\nGratuit\n\n\n\nSur inscription au 05 62 23 23 22 ou par mail à media.eaunes@mediaeaunes.fr
URL:https://www.mediaeaunes.fr/evenement/spectacle-cetait-une-nuit-de-noel/
LOCATION:Médiathèque Marie de France\, 785 Avenue de la Mairie\, Eaunes\, 31600\, France
CATEGORIES:Culture,Événement,Spectacle
ATTACH;FMTTYPE=image/png:https://www.mediaeaunes.fr/wp-content/uploads/2025/12/Affiche-Cetait-une-nuit-de-Noel1.png
ORGANIZER;CN="M%C3%A9diath%C3%A8que":MAILTO:media.eaunes@mediaeaunes.fr
END:VEVENT
END:VCALENDAR