BEGIN:VCALENDAR
VERSION:2.0
PRODID:-//Mairie d&#039;Eaunes - ECPv6.0.11//NONSGML v1.0//EN
CALSCALE:GREGORIAN
METHOD:PUBLISH
X-WR-CALNAME:Mairie d&#039;Eaunes
X-ORIGINAL-URL:https://www.mediaeaunes.fr
X-WR-CALDESC:évènements pour Mairie d&#039;Eaunes
REFRESH-INTERVAL;VALUE=DURATION:PT1H
X-Robots-Tag:noindex
X-PUBLISHED-TTL:PT1H
BEGIN:VTIMEZONE
TZID:Europe/Paris
BEGIN:DAYLIGHT
TZOFFSETFROM:+0100
TZOFFSETTO:+0200
TZNAME:CEST
DTSTART:20230326T010000
END:DAYLIGHT
BEGIN:STANDARD
TZOFFSETFROM:+0200
TZOFFSETTO:+0100
TZNAME:CET
DTSTART:20231029T010000
END:STANDARD
END:VTIMEZONE
BEGIN:VEVENT
DTSTART;TZID=Europe/Paris:20231007T140000
DTEND;TZID=Europe/Paris:20231007T170000
DTSTAMP:20260423T115637
CREATED:20230922T072415Z
LAST-MODIFIED:20230922T072417Z
UID:10000387-1696687200-1696698000@www.mediaeaunes.fr
SUMMARY:Octobre Rose
DESCRIPTION:Cette année encore\, la Mairie et le CCAS d’Eaunes (Centre Communal d’Action Sociale) se mobilisent pour la troisième édition d’Octobre Rose\, le mois de sensibilisation au dépistage du cancer du sein. \n\n\n\nEn partenariat avec la Ligue contre le cancer et le Dépistage des cancers Occitanie\, la manifestation se déroulera l’après-midi\, avec au programme : \n\n\n\n\nUne marche au départ de la Mairie à 14h00\n\n\n\nDes ateliers et des stands de bien-être au parc de l’abbaye à partir de 15h30\n\n\n\n\nNous vous encourageons à venir nombreux.Mobilisons-nous ensemble ! \n\n\n\n\nSamedi 7 octobre à 14h00\n\n\n\nMairie\n\n\n\nGratuit\n\n\n\nSans inscription\, ouvert à tous !
URL:https://www.mediaeaunes.fr/evenement/octobre-rose/
LOCATION:Mairie d’Eaunes\, 1 Place des Champs de Vignes\, 31600 Eaunes
CATEGORIES:Autre,Evénement annuel
ATTACH;FMTTYPE=image/png:https://www.mediaeaunes.fr/wp-content/uploads/2023/09/Design-sans-titre142.png
ORGANIZER;CN="CCAS":MAILTO:service.ccas@mairieaunes.fr
END:VEVENT
END:VCALENDAR