BEGIN:VCALENDAR
VERSION:2.0
PRODID:-//Mairie d&#039;Eaunes - ECPv6.0.11//NONSGML v1.0//EN
CALSCALE:GREGORIAN
METHOD:PUBLISH
X-ORIGINAL-URL:https://www.mediaeaunes.fr
X-WR-CALDESC:évènements pour Mairie d&#039;Eaunes
REFRESH-INTERVAL;VALUE=DURATION:PT1H
X-Robots-Tag:noindex
X-PUBLISHED-TTL:PT1H
BEGIN:VTIMEZONE
TZID:Europe/Paris
BEGIN:DAYLIGHT
TZOFFSETFROM:+0100
TZOFFSETTO:+0200
TZNAME:CEST
DTSTART:20240331T010000
END:DAYLIGHT
BEGIN:STANDARD
TZOFFSETFROM:+0200
TZOFFSETTO:+0100
TZNAME:CET
DTSTART:20241027T010000
END:STANDARD
END:VTIMEZONE
BEGIN:VEVENT
DTSTART;TZID=Europe/Paris:20240618T180000
DTEND;TZID=Europe/Paris:20240618T190000
DTSTAMP:20260423T001516
CREATED:20240607T132235Z
LAST-MODIFIED:20240607T132237Z
UID:10000437-1718733600-1718737200@www.mediaeaunes.fr
SUMMARY:Commémoration du 18 juin
DESCRIPTION:La commémoration de l’appel du Général de Gaulle du 18 juin 1940\, sera célébrée mardi 18 juin à partir de 18h00 au Monument aux morts. Cet événement se déroulera en présence d’Alain Sottil\, Maire d’Eaunes\, des élus du Conseil Municipal\, des membres du Conseil Municipal des Enfants (CME) et de l’association Amicale des Anciens Combattants.
URL:https://www.mediaeaunes.fr/evenement/commemoration-du-18-juin/
LOCATION:Monument aux morts\, Avenue de la Mairie\, Eaunes\, 31600\, France
CATEGORIES:Associations,Autre,Evénement annuel
ATTACH;FMTTYPE=image/jpeg:https://www.mediaeaunes.fr/wp-content/uploads/2024/06/photo-recadree.jpg
END:VEVENT
END:VCALENDAR