BEGIN:VCALENDAR
VERSION:2.0
PRODID:-//Mairie d&#039;Eaunes - ECPv6.0.11//NONSGML v1.0//EN
CALSCALE:GREGORIAN
METHOD:PUBLISH
X-ORIGINAL-URL:https://www.mediaeaunes.fr
X-WR-CALDESC:évènements pour Mairie d&#039;Eaunes
REFRESH-INTERVAL;VALUE=DURATION:PT1H
X-Robots-Tag:noindex
X-PUBLISHED-TTL:PT1H
BEGIN:VTIMEZONE
TZID:Europe/Paris
BEGIN:DAYLIGHT
TZOFFSETFROM:+0100
TZOFFSETTO:+0200
TZNAME:CEST
DTSTART:20240331T010000
END:DAYLIGHT
BEGIN:STANDARD
TZOFFSETFROM:+0200
TZOFFSETTO:+0100
TZNAME:CET
DTSTART:20241027T010000
END:STANDARD
END:VTIMEZONE
BEGIN:VEVENT
DTSTART;TZID=Europe/Paris:20241128T190000
DTEND;TZID=Europe/Paris:20241128T203000
DTSTAMP:20260422T171241
CREATED:20241119T101618Z
LAST-MODIFIED:20241129T083557Z
UID:10000471-1732820400-1732825800@www.mediaeaunes.fr
SUMMARY:Pot d’accueil des Nouveaux Habitants
DESCRIPTION:Chers nouveaux habitants\, \n\n\n\nNous sommes ravis de vous inviter à notre pot d’accueil le 28 novembre à 19h00 au Centre Hermès (145 avenue de la Mairie). \n\n\n\nC’est l’occasion idéale pour rencontrer Monsieur le Maire\, Alain Sottil\, les élus\, ainsi que d’autres nouveaux habitants de la commune. \n\n\n\n\nAu programme :\n\n\n\nPrésentation de notre belle commune et de ses services\n\n\n\nPot de bienvenue pour échanger et faire connaissance\n\n\n\n\nNous espérons vous voir nombreux pour partager ce moment convivial ! \n\n\n\n\n\n\n\n\n\n\n\n\n\n 
URL:https://www.mediaeaunes.fr/evenement/pot-daccueil-des-nouveaux-habitants/
LOCATION:Centre Hermès\, 145 Avenue de la Mairie\, eaunes\, 31600\, France
CATEGORIES:Autre
ATTACH;FMTTYPE=image/png:https://www.mediaeaunes.fr/wp-content/uploads/2024/10/Affiche-Pot-daccueil-nouveaux-arrivants-1.png
END:VEVENT
END:VCALENDAR