BEGIN:VCALENDAR
VERSION:2.0
PRODID:-//Mairie d&#039;Eaunes - ECPv6.0.11//NONSGML v1.0//EN
CALSCALE:GREGORIAN
METHOD:PUBLISH
X-WR-CALNAME:Mairie d&#039;Eaunes
X-ORIGINAL-URL:https://www.mediaeaunes.fr
X-WR-CALDESC:évènements pour Mairie d&#039;Eaunes
REFRESH-INTERVAL;VALUE=DURATION:PT1H
X-Robots-Tag:noindex
X-PUBLISHED-TTL:PT1H
BEGIN:VTIMEZONE
TZID:Europe/Paris
BEGIN:DAYLIGHT
TZOFFSETFROM:+0100
TZOFFSETTO:+0200
TZNAME:CEST
DTSTART:20240331T010000
END:DAYLIGHT
BEGIN:STANDARD
TZOFFSETFROM:+0200
TZOFFSETTO:+0100
TZNAME:CET
DTSTART:20241027T010000
END:STANDARD
END:VTIMEZONE
BEGIN:VEVENT
DTSTART;TZID=Europe/Paris:20240119T190000
DTEND;TZID=Europe/Paris:20240119T230000
DTSTAMP:20260423T090717
CREATED:20231228T102926Z
LAST-MODIFIED:20231228T102927Z
UID:10000406-1705690800-1705705200@www.mediaeaunes.fr
SUMMARY:Cérémonie des vœux du Maire
DESCRIPTION:La traditionnelle cérémonie des Vœux du Maire et du Conseil Municipal aura lieu le 19 janvier à 19h00 au Centre Hermès\, marquant ainsi le début d’une nouvelle année. Le Maire et les membres du Conseil Municipal partageront leurs perspectives pour l’année 2024 en mettant en lumière les projets à venir. La prise de parole sera suivie d’un moment d’échange convivial. \n\n\n\nUn rendez-vous chaleureux à ne pas manquer ! \n\n\n\n\nVendredi 19 janvier 2024\n\n\n\n19h00\n\n\n\nCentre Hermès
URL:https://www.mediaeaunes.fr/evenement/ceremonie-des-voeux-du-maire/
LOCATION:Centre Hermès\, 145 Avenue de la Mairie\, eaunes\, 31600\, France
CATEGORIES:Autre,Evénement annuel
ATTACH;FMTTYPE=image/jpeg:https://www.mediaeaunes.fr/wp-content/uploads/2023/12/410035989_320851707534119_1786258200317807972_n.jpg
END:VEVENT
END:VCALENDAR