BEGIN:VCALENDAR
VERSION:2.0
PRODID:-//Mairie d&#039;Eaunes - ECPv6.0.11//NONSGML v1.0//EN
CALSCALE:GREGORIAN
METHOD:PUBLISH
X-WR-CALNAME:Mairie d&#039;Eaunes
X-ORIGINAL-URL:https://www.mediaeaunes.fr
X-WR-CALDESC:évènements pour Mairie d&#039;Eaunes
REFRESH-INTERVAL;VALUE=DURATION:PT1H
X-Robots-Tag:noindex
X-PUBLISHED-TTL:PT1H
BEGIN:VTIMEZONE
TZID:Europe/Paris
BEGIN:DAYLIGHT
TZOFFSETFROM:+0100
TZOFFSETTO:+0200
TZNAME:CEST
DTSTART:20250330T010000
END:DAYLIGHT
BEGIN:STANDARD
TZOFFSETFROM:+0200
TZOFFSETTO:+0100
TZNAME:CET
DTSTART:20251026T010000
END:STANDARD
END:VTIMEZONE
BEGIN:VEVENT
DTSTART;TZID=Europe/Paris:20250326T090000
DTEND;TZID=Europe/Paris:20250326T143000
DTSTAMP:20260422T130443
CREATED:20250227T153235Z
LAST-MODIFIED:20250227T153516Z
UID:10000497-1742979600-1742999400@www.mediaeaunes.fr
SUMMARY:Manger équilibré sans se ruiner !
DESCRIPTION:Le CCAS (Centre Communal d’Action Sociale) vous propose un atelier cuisine pour apprendre à préparer ensemble des repas sains et équilibrés avec des produits de saison adaptés aux petits budgets. \n\n\n\nLes ingrédients sont fournis et l’atelier se clôturera par un repas partagé entre participants. Un moment convivial et gourmand à ne pas manquer ! \n\n\n\n\nMercredi 26 mars\n\n\n\nDe 9h15 à 14h30\n\n\n\nCentre Hermès\n\n\n\nAtelier destiné aux Eaunois\n\n\n\nGratuit\n\n\n\nSur inscription\n\n\n\n\nInformations complémentaires et inscriptions auprès du CCAS au 05 61 08 82 35 ou par mail à service.ccas@mairieaunes.fr
URL:https://www.mediaeaunes.fr/evenement/eaunes-cuisine/
LOCATION:Centre Hermès\, 145 Avenue de la Mairie\, eaunes\, 31600\, France
CATEGORIES:Atelier,Autre,Événement
ATTACH;FMTTYPE=image/png:https://www.mediaeaunes.fr/wp-content/uploads/2025/02/Affiche-Eaunes-en-Cuisine-ok3.png
ORGANIZER;CN="CCAS":MAILTO:service.ccas@mairieaunes.fr
END:VEVENT
END:VCALENDAR