BEGIN:VCALENDAR
VERSION:2.0
PRODID:-//Mairie d&#039;Eaunes - ECPv6.0.11//NONSGML v1.0//EN
CALSCALE:GREGORIAN
METHOD:PUBLISH
X-WR-CALNAME:Mairie d&#039;Eaunes
X-ORIGINAL-URL:https://www.mediaeaunes.fr
X-WR-CALDESC:évènements pour Mairie d&#039;Eaunes
REFRESH-INTERVAL;VALUE=DURATION:PT1H
X-Robots-Tag:noindex
X-PUBLISHED-TTL:PT1H
BEGIN:VTIMEZONE
TZID:Europe/Paris
BEGIN:DAYLIGHT
TZOFFSETFROM:+0100
TZOFFSETTO:+0200
TZNAME:CEST
DTSTART:20250330T010000
END:DAYLIGHT
BEGIN:STANDARD
TZOFFSETFROM:+0200
TZOFFSETTO:+0100
TZNAME:CET
DTSTART:20251026T010000
END:STANDARD
END:VTIMEZONE
BEGIN:VEVENT
DTSTART;TZID=Europe/Paris:20251001T080000
DTEND;TZID=Europe/Paris:20251031T170000
DTSTAMP:20260425T223626
CREATED:20250910T100121Z
LAST-MODIFIED:20250910T100123Z
UID:10000540-1759305600-1761930000@www.mediaeaunes.fr
SUMMARY:"Les petits scientifiques" : Mois de la petite enfance à la médiathèque
DESCRIPTION:Le mois de la petite enfance fait son retour au mois d’octobre à la médiathèque ! \n\n\n\nCette année\, le thème choisi est « Les petits scientifiques » en lien avec la programmation de l’entente culturelle Articule qui réunit six communes : Eaunes\, Labarthe-sur-Lèze\, Lagardelle-sur-Lèze\, Pins-Justaret\, Roquettes et Roques. \n\n\n\nAu programme : un spectacle\, des ateliers\, une initiation au yoga\, un parcours sensoriel\, des jeux et un superbe décor pour émerveiller les tout-petits. \n\n\n\n\nMois de la petite enfance\n\n\n\nMédiathèque\n\n\n\nTout le mois d’octobre\n\n\n\nAteliers et spectacle sur inscription\n\n\n\n\nProgramme détaillé ci-dessous :
URL:https://www.mediaeaunes.fr/evenement/les-petits-scientifiques-mois-de-la-petite-enfance-a-la-mediatheque/
LOCATION:Médiathèque Marie de France\, 785 Avenue de la Mairie\, Eaunes\, 31600\, France
CATEGORIES:Animation,Atelier,Culture,Entente Articule,Evénement annuel,Exposition,Spectacle
ATTACH;FMTTYPE=image/png:https://www.mediaeaunes.fr/wp-content/uploads/2025/09/Affiche-mois-de-la-petite-enfanceFB.png
ORGANIZER;CN="M%C3%A9diath%C3%A8que":MAILTO:media.eaunes@mediaeaunes.fr
END:VEVENT
BEGIN:VEVENT
DTSTART;TZID=Europe/Paris:20251001T080000
DTEND;TZID=Europe/Paris:20251128T170000
DTSTAMP:20260425T223626
CREATED:20250916T130110Z
LAST-MODIFIED:20250916T130112Z
UID:10000543-1759305600-1764349200@www.mediaeaunes.fr
SUMMARY:Mois de la petite enfance – Exposition "Ephemeral Landscape"
DESCRIPTION:Découvrez une exposition « Ephemeral Landscape » (paysages éphémères) pleine de couleurs grâce aux œuvres de l’artiste Florence Jourdàa\, qui met en lumière les animaux en voie d’extinction. \n\n\n\nEn parallèle\, Marielle\, médiathécaire\, propose un parcours sensoriel et un décor immersif pour éveiller la curiosité et les sens des petits et grands. Lectures animées\, vidéos documentaires\, tapis de lecture et objets à manipuler viendront enrichir l’expérience. \n\n\n\n\nExposition du 1er octobre au 28 novembre\n\n\n\nInstallation des médiathécaires du 1er au 29 octobre\n\n\n\nTout public\n\n\n\nGratuit
URL:https://www.mediaeaunes.fr/evenement/mois-de-la-petite-enfance-exposition-ephemeral-landscape/
LOCATION:Médiathèque Marie de France\, 785 Avenue de la Mairie\, Eaunes\, 31600\, France
CATEGORIES:Culture,Exposition
ATTACH;FMTTYPE=image/png:https://www.mediaeaunes.fr/wp-content/uploads/2025/09/Les-petits-scientifiques-ephemeral-landscape-FB.png
ORGANIZER;CN="M%C3%A9diath%C3%A8que":MAILTO:media.eaunes@mediaeaunes.fr
END:VEVENT
BEGIN:VEVENT
DTSTART;TZID=Europe/Paris:20251011T103000
DTEND;TZID=Europe/Paris:20251011T113000
DTSTAMP:20260425T223626
CREATED:20250916T152930Z
LAST-MODIFIED:20250916T152931Z
UID:10000544-1760178600-1760182200@www.mediaeaunes.fr
SUMMARY:Mois de la petite enfance – Atelier yoga parents-enfants
DESCRIPTION:Offrez-vous un moment unique de complicité avec vos enfants !Cet atelier\, animé par Catherine Jaud Vincent (enseignante de yoga depuis plus de 10 ans)\, propose un temps de pause et d’harmonie à partager en famille. \n\n\n\nYoga\, méditation et sonothérapie pour se détendre\, renforcer les liens et favoriser le bien-être physique et émotionnel. \n\n\n\n\nSamedi 11 octobre\n\n\n\nÀ 10h30 pour les 3-4 ans\n\n\n\nÀ 11h30 pour les 5-6 ans\n\n\n\nGratuit\n\n\n\nSur inscription\n\n\n\nMédiathèque
URL:https://www.mediaeaunes.fr/evenement/mois-de-la-petite-enfance-atelier-yoga-parents-enfants/
LOCATION:Médiathèque Marie de France\, 785 Avenue de la Mairie\, Eaunes\, 31600\, France
CATEGORIES:Atelier,Culture
ATTACH;FMTTYPE=image/png:https://www.mediaeaunes.fr/wp-content/uploads/2025/09/Les-petits-scientifiques-yoga-parents-enfants-FB.png
ORGANIZER;CN="M%C3%A9diath%C3%A8que":MAILTO:media.eaunes@mediaeaunes.fr
END:VEVENT
BEGIN:VEVENT
DTSTART;TZID=Europe/Paris:20251011T140000
DTEND;TZID=Europe/Paris:20251011T180000
DTSTAMP:20260425T223626
CREATED:20250910T142347Z
LAST-MODIFIED:20250910T142349Z
UID:10000541-1760191200-1760205600@www.mediaeaunes.fr
SUMMARY:Octobre Rose
DESCRIPTION:Pour la 5ᵉ année consécutive\, la Mairie et le CCAS s’associent à Octobre Rose\, le mois de sensibilisation au dépistage du cancer du sein. Au programme : la traditionnelle marche solidaire au départ de la Mairie et des animations conviviales au parc de l’abbaye.  \n\n\n\nVenez nombreux !  \n\n\n\n\nSamedi 11 octobre \n\n\n\nÀ partir de 14h00\n\n\n\nDépart de la mairie\n\n\n\nGratuit\n\n\n\nSans inscription
URL:https://www.mediaeaunes.fr/evenement/octobre-rose-3/
LOCATION:Mairie d’Eaunes\, 1 Place des Champs de Vignes\, 31600 Eaunes
CATEGORIES:Animation,Événement,Evénement annuel
ATTACH;FMTTYPE=image/jpeg:https://www.mediaeaunes.fr/wp-content/uploads/2025/09/Octobre-Rose-2025-FB.jpg
ORGANIZER;CN="CCAS":MAILTO:service.ccas@mairieaunes.fr
END:VEVENT
END:VCALENDAR