BEGIN:VCALENDAR
VERSION:2.0
PRODID:-//Mairie d&#039;Eaunes - ECPv6.0.11//NONSGML v1.0//EN
CALSCALE:GREGORIAN
METHOD:PUBLISH
X-WR-CALNAME:Mairie d&#039;Eaunes
X-ORIGINAL-URL:https://www.mediaeaunes.fr
X-WR-CALDESC:évènements pour Mairie d&#039;Eaunes
REFRESH-INTERVAL;VALUE=DURATION:PT1H
X-Robots-Tag:noindex
X-PUBLISHED-TTL:PT1H
BEGIN:VTIMEZONE
TZID:Europe/Paris
BEGIN:DAYLIGHT
TZOFFSETFROM:+0100
TZOFFSETTO:+0200
TZNAME:CEST
DTSTART:20260329T010000
END:DAYLIGHT
BEGIN:STANDARD
TZOFFSETFROM:+0200
TZOFFSETTO:+0100
TZNAME:CET
DTSTART:20261025T010000
END:STANDARD
END:VTIMEZONE
BEGIN:VEVENT
DTSTART;TZID=Europe/Paris:20260114T080000
DTEND;TZID=Europe/Paris:20260225T170000
DTSTAMP:20260423T230645
CREATED:20251201T154125Z
LAST-MODIFIED:20251201T154621Z
UID:10000559-1768377600-1772038800@www.mediaeaunes.fr
SUMMARY:Les ados osent et exposent !
DESCRIPTION:La médiathèque invite les jeunes de 10 à 16 ans à présenter leurs créations artistiques : dessins\, peintures\, sculptures\, Lego\, Playmobil\, et bien plus encore ! \n\n\n\nTu as envie de montrer ton talent ?Participe à cette exposition ouverte à tous les jeunes. \n\n\n\nComment faire ?Avant de déposer ton œuvre\, contacte la médiathèque pour indiquer le type de création que tu souhaites exposer. \n\n\n\n\nExposition du 14 janvier au 21 février\n\n\n\nDate limite de dépôt des œuvres : samedi 10 janvier à 12h00\n\n\n\nInfos et contacts : Médiathèque d’Eaunes : media.eaunes@mediaeaunes.fr / 05 62 23 23 22
URL:https://www.mediaeaunes.fr/evenement/les-ados-osent-et-exposent/
LOCATION:Médiathèque Marie de France\, 785 Avenue de la Mairie\, Eaunes\, 31600\, France
CATEGORIES:Animation,Culture,Exposition
ATTACH;FMTTYPE=image/png:https://www.mediaeaunes.fr/wp-content/uploads/2025/12/Format-paysage-Les-ados-osent-et-exposent.png
ORGANIZER;CN="M%C3%A9diath%C3%A8que":MAILTO:media.eaunes@mediaeaunes.fr
END:VEVENT
BEGIN:VEVENT
DTSTART;TZID=Europe/Paris:20260121T143000
DTEND;TZID=Europe/Paris:20260121T173000
DTSTAMP:20260423T230645
CREATED:20260105T155533Z
LAST-MODIFIED:20260105T155536Z
UID:10000568-1769005800-1769016600@www.mediaeaunes.fr
SUMMARY:Après-midi jeux de société et switch
DESCRIPTION:La Médiathèque vous invite à partager une après-midi jeux de société et Switch\, dans une ambiance conviviale. Une belle occasion de découvrir de nouveaux jeux et de s’amuser ensemble !*Possibilité d’apporter son matériel : jeu de société ou nintendo switchInfos et inscriptions au 05 62 23 23 22 ou à media.eaunes@mediaeaunes.fr  \n\n\n\n\nMercredi 21 janvier de 14h30 à 17h30\n\n\n\nMédiathèque\n\n\n\nGratuit\n\n\n\nSur inscription
URL:https://www.mediaeaunes.fr/evenement/apres-midi-jeux-de-societe-et-switch/
LOCATION:Médiathèque Marie de France\, 785 Avenue de la Mairie\, Eaunes\, 31600\, France
CATEGORIES:Animation,Atelier,Événement
ATTACH;FMTTYPE=image/jpeg:https://www.mediaeaunes.fr/wp-content/uploads/2026/01/jeux-de-societe.jpg
ORGANIZER;CN="M%C3%A9diath%C3%A8que":MAILTO:media.eaunes@mediaeaunes.fr
END:VEVENT
END:VCALENDAR