BEGIN:VCALENDAR
VERSION:2.0
PRODID:-//Mairie d&#039;Eaunes - ECPv6.0.11//NONSGML v1.0//EN
CALSCALE:GREGORIAN
METHOD:PUBLISH
X-WR-CALNAME:Mairie d&#039;Eaunes
X-ORIGINAL-URL:https://www.mediaeaunes.fr
X-WR-CALDESC:évènements pour Mairie d&#039;Eaunes
REFRESH-INTERVAL;VALUE=DURATION:PT1H
X-Robots-Tag:noindex
X-PUBLISHED-TTL:PT1H
BEGIN:VTIMEZONE
TZID:Europe/Paris
BEGIN:DAYLIGHT
TZOFFSETFROM:+0100
TZOFFSETTO:+0200
TZNAME:CEST
DTSTART:20250330T010000
END:DAYLIGHT
BEGIN:STANDARD
TZOFFSETFROM:+0200
TZOFFSETTO:+0100
TZNAME:CET
DTSTART:20251026T010000
END:STANDARD
END:VTIMEZONE
BEGIN:VEVENT
DTSTART;TZID=Europe/Paris:20250301T080000
DTEND;TZID=Europe/Paris:20250906T223000
DTSTAMP:20260425T162451
CREATED:20250226T095843Z
LAST-MODIFIED:20250304T080808Z
UID:10000492-1740816000-1757197800@www.mediaeaunes.fr
SUMMARY:2025 : Eaunes est culture !
DESCRIPTION:En 2025\, Eaunes célèbre la culture sous toutes ses formes en mettant à l’honneur la créativité\, le partage et la découverte à travers une programmation riche et variée. \n\n\n\nConférence\, expositions\, atelier d’écriture\, jeux d’improvisation poétique\, lectures intergénérationnelles\, vide-grenier culturel ou encore concert à la bougie rythmeront cette année culturelle. \n\n\n\nL’objectif ? Favoriser l’accès à la culture pour tous\, encourager l’expression artistique et renforcer le lien social à travers des rencontres et des échanges culturels. \n\n\n\nDécouvrez le programme ici
URL:https://www.mediaeaunes.fr/evenement/2025-annee-de-la-culture-a-eaunes/
CATEGORIES:Animation,Atelier,Concert,Culture,Événement,Exposition,Spectacle
ATTACH;FMTTYPE=image/png:https://www.mediaeaunes.fr/wp-content/uploads/2025/02/Visuel-FB-Eaunes-est-Culture1-1.png
END:VEVENT
END:VCALENDAR