BEGIN:VCALENDAR
VERSION:2.0
PRODID:-//Mairie d&#039;Eaunes - ECPv6.0.11//NONSGML v1.0//EN
CALSCALE:GREGORIAN
METHOD:PUBLISH
X-WR-CALNAME:Mairie d&#039;Eaunes
X-ORIGINAL-URL:https://www.mediaeaunes.fr
X-WR-CALDESC:évènements pour Mairie d&#039;Eaunes
REFRESH-INTERVAL;VALUE=DURATION:PT1H
X-Robots-Tag:noindex
X-PUBLISHED-TTL:PT1H
BEGIN:VTIMEZONE
TZID:Europe/Paris
BEGIN:DAYLIGHT
TZOFFSETFROM:+0100
TZOFFSETTO:+0200
TZNAME:CEST
DTSTART:20260329T010000
END:DAYLIGHT
BEGIN:STANDARD
TZOFFSETFROM:+0200
TZOFFSETTO:+0100
TZNAME:CET
DTSTART:20261025T010000
END:STANDARD
END:VTIMEZONE
BEGIN:VEVENT
DTSTART;TZID=Europe/Paris:20260411T210000
DTEND;TZID=Europe/Paris:20260411T223000
DTSTAMP:20260421T145729
CREATED:20260112T133628Z
LAST-MODIFIED:20260112T133630Z
UID:10000570-1775941200-1775946600@www.mediaeaunes.fr
SUMMARY:Spectacle "Vacances obligatoires"
DESCRIPTION:Patrick\, véritable accro au travail\, se retrouve en cure forcée après un malaise. Sans ordinateur ni téléphone\, il doit convaincre une psychologue qu’il est enfin “désintoxiqué” pour retrouver sa famille… et son job. Mais au même moment se joue le plus gros coup de sa carrière. Pour la première fois\, il doit apprendre à ne rien faire. Y parviendra-t-il ? \n\n\n\nOuverture de la billetterie un mois avant le spectacle \n\n\n\n\nSamedi 11 avril à 21h00\n\n\n\nCentre Hermès\n\n\n\nGratuit\n\n\n\nSur réservation
URL:https://www.mediaeaunes.fr/evenement/spectacle-vacances-obligatoires/
LOCATION:Centre Hermès\, 145 Avenue de la Mairie\, eaunes\, 31600\, France
CATEGORIES:Culture,Événement,Spectacle
ATTACH;FMTTYPE=image/png:https://www.mediaeaunes.fr/wp-content/uploads/2026/01/vacances-obligatoires-spectacle.png
END:VEVENT
END:VCALENDAR