BEGIN:VCALENDAR
VERSION:2.0
PRODID:-//Mairie d&#039;Eaunes - ECPv6.0.11//NONSGML v1.0//EN
CALSCALE:GREGORIAN
METHOD:PUBLISH
X-WR-CALNAME:Mairie d&#039;Eaunes
X-ORIGINAL-URL:https://www.mediaeaunes.fr
X-WR-CALDESC:évènements pour Mairie d&#039;Eaunes
REFRESH-INTERVAL;VALUE=DURATION:PT1H
X-Robots-Tag:noindex
X-PUBLISHED-TTL:PT1H
BEGIN:VTIMEZONE
TZID:Europe/Paris
BEGIN:DAYLIGHT
TZOFFSETFROM:+0100
TZOFFSETTO:+0200
TZNAME:CEST
DTSTART:20260329T010000
END:DAYLIGHT
BEGIN:STANDARD
TZOFFSETFROM:+0200
TZOFFSETTO:+0100
TZNAME:CET
DTSTART:20261025T010000
END:STANDARD
END:VTIMEZONE
BEGIN:VEVENT
DTSTART;TZID=Europe/Paris:20260115T190000
DTEND;TZID=Europe/Paris:20260115T210000
DTSTAMP:20260425T173742
CREATED:20260102T143046Z
LAST-MODIFIED:20260102T143048Z
UID:10000563-1768503600-1768510800@www.mediaeaunes.fr
SUMMARY:Cérémonie des vœux du Maire
DESCRIPTION:La cérémonie des vœux du Maire se tiendra jeudi 15 janvier à 19h00 au Centre Hermès. Elle sera suivie d’un moment de convivialité. \n\n\n\nCérémonie ouverte au public.
URL:https://www.mediaeaunes.fr/evenement/ceremonie-des-voeux-du-maire-3/
LOCATION:Centre Hermès\, 145 Avenue de la Mairie\, eaunes\, 31600\, France
CATEGORIES:Événement,Evénement annuel
ATTACH;FMTTYPE=image/png:https://www.mediaeaunes.fr/wp-content/uploads/2025/12/Affiche-Bonne-annee-2026-OKFB.png
END:VEVENT
END:VCALENDAR