BEGIN:VCALENDAR
VERSION:2.0
PRODID:-//Mairie d&#039;Eaunes - ECPv6.0.11//NONSGML v1.0//EN
CALSCALE:GREGORIAN
METHOD:PUBLISH
X-ORIGINAL-URL:https://www.mediaeaunes.fr
X-WR-CALDESC:évènements pour Mairie d&#039;Eaunes
REFRESH-INTERVAL;VALUE=DURATION:PT1H
X-Robots-Tag:noindex
X-PUBLISHED-TTL:PT1H
BEGIN:VTIMEZONE
TZID:Europe/Paris
BEGIN:DAYLIGHT
TZOFFSETFROM:+0100
TZOFFSETTO:+0200
TZNAME:CEST
DTSTART:20240331T010000
END:DAYLIGHT
BEGIN:STANDARD
TZOFFSETFROM:+0200
TZOFFSETTO:+0100
TZNAME:CET
DTSTART:20241027T010000
END:STANDARD
END:VTIMEZONE
BEGIN:VEVENT
DTSTART;TZID=Europe/Paris:20240409T090000
DTEND;TZID=Europe/Paris:20240409T170000
DTSTAMP:20260421T174707
CREATED:20240409T123719Z
LAST-MODIFIED:20240409T123752Z
UID:10000425-1712653200-1712682000@www.mediaeaunes.fr
SUMMARY:Braderie
DESCRIPTION:L’Association Vert Soleil organise une braderie samedi 13 avril.Vêtements\, chaussures\, petits meubles\, vaisselle\, quincaillerie\, bricolage et d’autres articles seront disponibles à la vente. \n\n\n\nUn food-truck sera présent pour assurer la restauration sur place. \n\n\n\n\nSamedi 13 avril\n\n\n\nDe 9h00 à 17h00\n\n\n\n905 Route du Plantaurel\, 31860 Labarthe-sur-Lèze\n\n\n\nPlus d’informations au 06 20 46 45 33
URL:https://www.mediaeaunes.fr/evenement/braderie/
LOCATION:905 Route du Plantaurel\, 31860 Labarthe-sur-Lèze
CATEGORIES:Associations
ATTACH;FMTTYPE=image/jpeg:https://www.mediaeaunes.fr/wp-content/uploads/2024/04/braderie.jpg
END:VEVENT
END:VCALENDAR