BEGIN:VCALENDAR
VERSION:2.0
PRODID:-//Mairie d&#039;Eaunes - ECPv6.0.11//NONSGML v1.0//EN
CALSCALE:GREGORIAN
METHOD:PUBLISH
X-WR-CALNAME:Mairie d&#039;Eaunes
X-ORIGINAL-URL:https://www.mediaeaunes.fr
X-WR-CALDESC:évènements pour Mairie d&#039;Eaunes
REFRESH-INTERVAL;VALUE=DURATION:PT1H
X-Robots-Tag:noindex
X-PUBLISHED-TTL:PT1H
BEGIN:VTIMEZONE
TZID:Europe/Paris
BEGIN:DAYLIGHT
TZOFFSETFROM:+0100
TZOFFSETTO:+0200
TZNAME:CEST
DTSTART:20250330T010000
END:DAYLIGHT
BEGIN:STANDARD
TZOFFSETFROM:+0200
TZOFFSETTO:+0100
TZNAME:CET
DTSTART:20251026T010000
END:STANDARD
END:VTIMEZONE
BEGIN:VEVENT
DTSTART;TZID=Europe/Paris:20250518T100000
DTEND;TZID=Europe/Paris:20250518T180000
DTSTAMP:20260423T111708
CREATED:20250411T134644Z
LAST-MODIFIED:20250417T102032Z
UID:10000510-1747562400-1747591200@www.mediaeaunes.fr
SUMMARY:Marché des créateurs
DESCRIPTION:L’association Eaunes Loisirs organise son marché des créateurs. \n\n\n\nCréations originales\, fait-main\, artisanat\, cadeaux. \n\n\n\n\nDimanche 18 mai\n\n\n\nDe 10h00 à 18h00\n\n\n\nEspace Ariane
URL:https://www.mediaeaunes.fr/evenement/marche-des-createurs-3/
LOCATION:Espace Ariane\, 1781 Route de Villate\, Eaunes
CATEGORIES:Associations,Événement
ATTACH;FMTTYPE=image/jpeg:https://www.mediaeaunes.fr/wp-content/uploads/2025/04/marche-createur.jpg
ORGANIZER;CN="Eaunes%20Loisirs":MAILTO:eaunes.loisirs@gmail.com
END:VEVENT
END:VCALENDAR