BEGIN:VCALENDAR
VERSION:2.0
PRODID:-//Mairie d&#039;Eaunes - ECPv6.0.11//NONSGML v1.0//EN
CALSCALE:GREGORIAN
METHOD:PUBLISH
X-ORIGINAL-URL:https://www.mediaeaunes.fr
X-WR-CALDESC:évènements pour Mairie d&#039;Eaunes
REFRESH-INTERVAL;VALUE=DURATION:PT1H
X-Robots-Tag:noindex
X-PUBLISHED-TTL:PT1H
BEGIN:VTIMEZONE
TZID:Europe/Paris
BEGIN:DAYLIGHT
TZOFFSETFROM:+0100
TZOFFSETTO:+0200
TZNAME:CEST
DTSTART:20210328T010000
END:DAYLIGHT
BEGIN:STANDARD
TZOFFSETFROM:+0200
TZOFFSETTO:+0100
TZNAME:CET
DTSTART:20211031T010000
END:STANDARD
END:VTIMEZONE
BEGIN:VEVENT
DTSTART;TZID=Europe/Paris:20210829T000000
DTEND;TZID=Europe/Paris:20210829T235959
DTSTAMP:20260423T124555
CREATED:20210730T152249Z
LAST-MODIFIED:20210730T152251Z
UID:10000285-1630195200-1630281599@www.mediaeaunes.fr
SUMMARY:Vide Greniers
DESCRIPTION:Vide Greniers ACCA (Association Communale de Chasse Agrée) \n\n\n\nPour plus d’informations contacter l’association ici
URL:https://www.mediaeaunes.fr/evenement/vide-greniers/
LOCATION:Parking Centre hermès\, 145 avenue de la mairie\, Eaunes\, 31600
CATEGORIES:Associations
ATTACH;FMTTYPE=image/jpeg:https://www.mediaeaunes.fr/wp-content/uploads/2021/05/vide-greniers.jpg
END:VEVENT
BEGIN:VEVENT
DTSTART;TZID=Europe/Paris:20210904T000000
DTEND;TZID=Europe/Paris:20210904T235959
DTSTAMP:20260423T124555
CREATED:20210621T081452Z
LAST-MODIFIED:20210621T081453Z
UID:10000264-1630713600-1630799999@www.mediaeaunes.fr
SUMMARY:Karaoké
DESCRIPTION:Organisé par le Comité des fêtes \n\n\n\nDans le respect des protocoles sanitaires en vigueur.
URL:https://www.mediaeaunes.fr/evenement/karaoke/
LOCATION:Parking Centre hermès\, 145 avenue de la mairie\, Eaunes\, 31600
CATEGORIES:Associations
ATTACH;FMTTYPE=image/jpeg:https://www.mediaeaunes.fr/wp-content/uploads/2021/06/karaoke.jpg
END:VEVENT
END:VCALENDAR