BEGIN:VCALENDAR
VERSION:2.0
PRODID:-//Mairie d&#039;Eaunes - ECPv6.0.11//NONSGML v1.0//EN
CALSCALE:GREGORIAN
METHOD:PUBLISH
X-ORIGINAL-URL:https://www.mediaeaunes.fr
X-WR-CALDESC:évènements pour Mairie d&#039;Eaunes
REFRESH-INTERVAL;VALUE=DURATION:PT1H
X-Robots-Tag:noindex
X-PUBLISHED-TTL:PT1H
BEGIN:VTIMEZONE
TZID:Europe/Paris
BEGIN:DAYLIGHT
TZOFFSETFROM:+0100
TZOFFSETTO:+0200
TZNAME:CEST
DTSTART:20210328T010000
END:DAYLIGHT
BEGIN:STANDARD
TZOFFSETFROM:+0200
TZOFFSETTO:+0100
TZNAME:CET
DTSTART:20211031T010000
END:STANDARD
BEGIN:DAYLIGHT
TZOFFSETFROM:+0100
TZOFFSETTO:+0200
TZNAME:CEST
DTSTART:20220327T010000
END:DAYLIGHT
BEGIN:STANDARD
TZOFFSETFROM:+0200
TZOFFSETTO:+0100
TZNAME:CET
DTSTART:20221030T010000
END:STANDARD
BEGIN:DAYLIGHT
TZOFFSETFROM:+0100
TZOFFSETTO:+0200
TZNAME:CEST
DTSTART:20230326T010000
END:DAYLIGHT
BEGIN:STANDARD
TZOFFSETFROM:+0200
TZOFFSETTO:+0100
TZNAME:CET
DTSTART:20231029T010000
END:STANDARD
BEGIN:DAYLIGHT
TZOFFSETFROM:+0100
TZOFFSETTO:+0200
TZNAME:CEST
DTSTART:20240331T010000
END:DAYLIGHT
BEGIN:STANDARD
TZOFFSETFROM:+0200
TZOFFSETTO:+0100
TZNAME:CET
DTSTART:20241027T010000
END:STANDARD
END:VTIMEZONE
BEGIN:VEVENT
DTSTART;TZID=Europe/Paris:20210704T140000
DTEND;TZID=Europe/Paris:20210704T170000
DTSTAMP:20260423T124558
CREATED:20210617T113033Z
LAST-MODIFIED:20210617T115933Z
UID:10000256-1625407200-1625418000@www.mediaeaunes.fr
SUMMARY:Loto Vert Soleil
DESCRIPTION:L’association « Vert Soleil » organise le 4 juillet 2021 un loto place clément Ader.Il y aura de nombreux lots et des parties adultes et enfants. \n\n\n\nDans le respect des protocoles sanitaires en vigueur. \n\n\n\nPour plus d’informations contacter l’association Vert Soleil ici
URL:https://www.mediaeaunes.fr/evenement/loto-vert-soleil/
LOCATION:Place Clément Ader\, Place Clément Ader\, Eaunes\, 31600\, France
CATEGORIES:Associations
ATTACH;FMTTYPE=image/jpeg:https://www.mediaeaunes.fr/wp-content/uploads/2021/06/table-game-4572818_1280.jpg
END:VEVENT
BEGIN:VEVENT
DTSTART;TZID=Europe/Paris:20220621T180000
DTEND;TZID=Europe/Paris:20220621T230000
DTSTAMP:20260423T124558
CREATED:20220121T082140Z
LAST-MODIFIED:20220602T123354Z
UID:10000304-1655834400-1655852400@www.mediaeaunes.fr
SUMMARY:Fête de la musique
DESCRIPTION:ConcertsGratuit \n\n\n\nLe mardi 21 juin\, célébrons la fête de la musique et l’arrivée de l’été. \n\n\n\nA partir de 19h\, dans le parc de l’abbaye nous partagerons ensemble un moment de découverte et de convivialité avec les concerts des associations musicales eaunoises. \n\n\n\nSuivra\, place Clément Ader le concert de La French Teuf. \n\n\n\nRévélée sur les grands rendez-vous festifs du sud de la France\, La French Teuf\, à l’énergie débordante\, vous fera danser sur les reprises de variété\, pop\, rock et des années 80. \n\n\n\nDeux guitares électriques aux rythmes effrénés; Du ska en passant par les années 80 remaniées… Tout le monde s’y retrouvera. \n\n\n\n​
URL:https://www.mediaeaunes.fr/evenement/fete-de-la-musique/
LOCATION:Place Clément Ader\, Place Clément Ader\, Eaunes\, 31600\, France
CATEGORIES:Concert,Culture
ATTACH;FMTTYPE=image/jpeg:https://www.mediaeaunes.fr/wp-content/uploads/2022/01/1200.jpg
ORGANIZER;CN="Service%20Culture":MAILTO:billeterie@mairieaunes.fr
END:VEVENT
BEGIN:VEVENT
DTSTART;TZID=Europe/Paris:20230621T193000
DTEND;TZID=Europe/Paris:20230621T233000
DTSTAMP:20260423T124558
CREATED:20230621T125751Z
LAST-MODIFIED:20230621T125752Z
UID:10000363-1687375800-1687390200@www.mediaeaunes.fr
SUMMARY:Fête de la musique
DESCRIPTION:Fête de la musique à Eaunes \n\n\n\nConcert The Pulse & Association eaunoise l’A.M.I.EGratuit. \n\n\n\nMercredi 21 juin\, c’est le premier jour de l’été\, mais également le jour où nous célébrons la fête de la musique ! \n\n\n\nPour cette occasion\, l’association musicale eaunoise l’AMIE se produira place Clément Ader. \n\n\n\nÀ partir de 21h00\, le groupe The Pulse\, spécialisé dans les reprises de hits dynamiques et festifs : Pop\, Rock\, Funk ou disco\, enflammera la scène !
URL:https://www.mediaeaunes.fr/evenement/fete-de-la-musique-3/
LOCATION:Place Clément Ader\, Place Clément Ader\, Eaunes\, 31600\, France
CATEGORIES:Concert,Culture
ATTACH;FMTTYPE=image/jpeg:https://www.mediaeaunes.fr/wp-content/uploads/2023/06/ThePulse_fete-de-la-musique.jpg
END:VEVENT
BEGIN:VEVENT
DTSTART;TZID=Europe/Paris:20240323T140000
DTEND;TZID=Europe/Paris:20240323T180000
DTSTAMP:20260423T124558
CREATED:20240305T161331Z
LAST-MODIFIED:20240305T161333Z
UID:10000419-1711202400-1711216800@www.mediaeaunes.fr
SUMMARY:Carnaval
DESCRIPTION:Le carnaval aura lieu samedi 23 mars à Eaunes ! \n\n\n\nCet événement\, organisé par la commune\, est réalisé en collaboration avec les associations locales\, le Conseil Municipal des Enfants (CME)\, les Accueils de Loisirs Associés à l’École (ALAE)\, l’Espace Jeunes et les écoles. \n\n\n\nDes jeux et un stand de maquillage seront disponibles sur place à partir de 14h00. \n\n\n\nUne déambulation est prévue à 15h00 en compagnie de la troupe itinérante Meu Brasil qui revient cette année pour vous transporter en plein cœur du carnaval de Rio ! \n\n\n\nCette année le thème choisi est : « Iles et tropiques » alors n’hésitez pas à revêtir votre plus beau costume pour l’occasion ! \n\n\n\n\nSamedi 23 mars\n\n\n\nDépart du cortège à 15h00\n\n\n\nPlace Clément Ader (sous la halle)
URL:https://www.mediaeaunes.fr/evenement/carnaval-2/
LOCATION:Place Clément Ader\, Place Clément Ader\, Eaunes\, 31600\, France
CATEGORIES:Animation,Associations,Evénement annuel
ATTACH;FMTTYPE=image/png:https://www.mediaeaunes.fr/wp-content/uploads/2024/02/visuel-carnaval-site-web.png
END:VEVENT
BEGIN:VEVENT
DTSTART;TZID=Europe/Paris:20240505T100000
DTEND;TZID=Europe/Paris:20240505T180000
DTSTAMP:20260423T124558
CREATED:20240409T124103Z
LAST-MODIFIED:20240409T124104Z
UID:10000426-1714903200-1714932000@www.mediaeaunes.fr
SUMMARY:Marché des Créateurs
DESCRIPTION:L’association Eaunes Loisirs organise un marché des créateurs. \n\n\n\n\nDimanche 5 mai\n\n\n\nDe 10h00 à 18h00\n\n\n\nPlace Clément Ader (Centre Hermès en cas de pluie)\n\n\n\nInformations et inscriptions par mail : eaunes.loisirs@gmail.com
URL:https://www.mediaeaunes.fr/evenement/marche-des-createurs-2/
LOCATION:Place Clément Ader\, Place Clément Ader\, Eaunes\, 31600\, France
CATEGORIES:Associations
ATTACH;FMTTYPE=image/jpeg:https://www.mediaeaunes.fr/wp-content/uploads/2024/04/eaunes-loisirs-marche-des-createurs.jpg
ORGANIZER;CN="Eaunes%20Loisirs":MAILTO:eaunes.loisirs@gmail.com
END:VEVENT
BEGIN:VEVENT
DTSTART;TZID=Europe/Paris:20240621T190000
DTEND;TZID=Europe/Paris:20240621T233000
DTSTAMP:20260423T124558
CREATED:20240605T114914Z
LAST-MODIFIED:20240620T093340Z
UID:10000434-1718996400-1719012600@www.mediaeaunes.fr
SUMMARY:Fête de la musique
DESCRIPTION:Ne manquez pas la Fête de la Musique à Eaunes ! \n\n\n\nPour l’occasion\, le groupe Rudy Live Band se produira sur la place Clément Ader offrant des réinterprétations des grands classiques de la chanson et de la pop ! \n\n\n\nL’association APEA proposera une buvette et des sandwichs à partir de 19h00. \n\n\n\n\nVendredi 21 juin \n\n\n\nA partir de 19h00\n\n\n\nPlace Clément Ader (sous la halle)
URL:https://www.mediaeaunes.fr/evenement/fete-de-la-musique-4/
LOCATION:Place Clément Ader\, Place Clément Ader\, Eaunes\, 31600\, France
CATEGORIES:Concert
ATTACH;FMTTYPE=image/png:https://www.mediaeaunes.fr/wp-content/uploads/2024/06/Affiche-Fete-de-la-Musique-.png
END:VEVENT
BEGIN:VEVENT
DTSTART;TZID=Europe/Paris:20240920T173000
DTEND;TZID=Europe/Paris:20240920T220000
DTSTAMP:20260423T124558
CREATED:20240820T082225Z
LAST-MODIFIED:20240820T082315Z
UID:10000447-1726853400-1726869600@www.mediaeaunes.fr
SUMMARY:Marché des producteurs
DESCRIPTION:A l’occasion de l’année dédiée à l’environnement\, la Municipalité organise un marché des producteurs\, le vendredi 20 septembre 2024\, de 17h30 à 22h00 sur la place Clément Ader. \n\n\n\nL’occasion de rencontrer des producteurs locaux passionnés\, de déguster des produits régionaux et passer une soirée conviviale autour des richesses du terroir. \n\n\n\nUn rendez-vous à ne pas manquer pour les amateurs de produits authentiques et de savoir-faire artisanal. \n\n\n\n\nVendredi 20 septembre 2024\n\n\n\nDe 17h30 à 22h00\n\n\n\nPlace Clément Ader
URL:https://www.mediaeaunes.fr/evenement/marche-des-producteurs/
LOCATION:Place Clément Ader\, Place Clément Ader\, Eaunes\, 31600\, France
ATTACH;FMTTYPE=image/png:https://www.mediaeaunes.fr/wp-content/uploads/2024/08/Marche-des-producteurs.png
END:VEVENT
END:VCALENDAR