BEGIN:VCALENDAR
VERSION:2.0
PRODID:-//Mairie d&#039;Eaunes - ECPv6.0.11//NONSGML v1.0//EN
CALSCALE:GREGORIAN
METHOD:PUBLISH
X-ORIGINAL-URL:https://www.mediaeaunes.fr
X-WR-CALDESC:évènements pour Mairie d&#039;Eaunes
REFRESH-INTERVAL;VALUE=DURATION:PT1H
X-Robots-Tag:noindex
X-PUBLISHED-TTL:PT1H
BEGIN:VTIMEZONE
TZID:Europe/Paris
BEGIN:DAYLIGHT
TZOFFSETFROM:+0100
TZOFFSETTO:+0200
TZNAME:CEST
DTSTART:20230326T010000
END:DAYLIGHT
BEGIN:STANDARD
TZOFFSETFROM:+0200
TZOFFSETTO:+0100
TZNAME:CET
DTSTART:20231029T010000
END:STANDARD
END:VTIMEZONE
BEGIN:VEVENT
DTSTART;TZID=Europe/Paris:20230623T000000
DTEND;TZID=Europe/Paris:20230625T235959
DTSTAMP:20260423T111940
CREATED:20230616T134508Z
LAST-MODIFIED:20230616T134526Z
UID:10000362-1687478400-1687737599@www.mediaeaunes.fr
SUMMARY:Fête Locale
DESCRIPTION:La fête locale organisée par le Comité des Fêtes se déroulera vendredi 23\, samedi 24 et dimanche 25 juin\, place du Bicentenaire. \n\n\n\nPêche aux canards\, concours de pétanque (organisé par Eaunes Pétanque)\, ball-trap (organisé par l’ACCA) ou encore fête foraine… De nombreuses activités pour amuser petits et grands ! \n\n\n\nLa fête se clôturera dimanche au parc de l’abbaye avec un feu d’artifice ! \n\n\n\nPour plus d’informations contactez l’association ici
URL:https://www.mediaeaunes.fr/evenement/fete-locale-3/
LOCATION:Place du Bicentenaire\, 31600 Eaunes\, France
CATEGORIES:Associations
ATTACH;FMTTYPE=image/jpeg:https://www.mediaeaunes.fr/wp-content/uploads/2023/06/fete-foraine.jpg
END:VEVENT
END:VCALENDAR