BEGIN:VCALENDAR
VERSION:2.0
PRODID:-//Mairie d&#039;Eaunes - ECPv6.0.11//NONSGML v1.0//EN
CALSCALE:GREGORIAN
METHOD:PUBLISH
X-WR-CALNAME:Mairie d&#039;Eaunes
X-ORIGINAL-URL:https://www.mediaeaunes.fr
X-WR-CALDESC:évènements pour Mairie d&#039;Eaunes
REFRESH-INTERVAL;VALUE=DURATION:PT1H
X-Robots-Tag:noindex
X-PUBLISHED-TTL:PT1H
BEGIN:VTIMEZONE
TZID:Europe/Paris
BEGIN:DAYLIGHT
TZOFFSETFROM:+0100
TZOFFSETTO:+0200
TZNAME:CEST
DTSTART:20230326T010000
END:DAYLIGHT
BEGIN:STANDARD
TZOFFSETFROM:+0200
TZOFFSETTO:+0100
TZNAME:CET
DTSTART:20231029T010000
END:STANDARD
END:VTIMEZONE
BEGIN:VEVENT
DTSTART;TZID=Europe/Paris:20230407T203000
DTEND;TZID=Europe/Paris:20230407T213000
DTSTAMP:20260422T092127
CREATED:20230124T161013Z
LAST-MODIFIED:20230308T094307Z
UID:10000282-1680899400-1680903000@www.mediaeaunes.fr
SUMMARY:Pièce de théâtre seul en scène "Splaouch"
DESCRIPTION:Philippe Bourillon & Sylvie Enaud – Zanni Compagnie \n\n\n\nGratuit – Sur réservation \n\n\n\nPhilippe Bourillon raconte avec une verve toute méridionale son enfance et son adolescence en Provence. \n\n\n\nUne succession de sketchs drôles et émouvants\, évoquant toutes les « premières fois  » depuis l’arrivée sur terre à la maternité\, en passant par les transmissions intergénérationnelles\, les apprentissages et les premiers émois amoureux.  \n\n\n\nUne autobiographie burlesque alternant la tendresse et le rire\, le tout saupoudré d’un grain de folie douce ! \n\n\n\nPlaces limitées \n\n\n\nRéservation au 05 62 23 23 22 ou à media.eaunes@mediaeaunes.fr
URL:https://www.mediaeaunes.fr/evenement/piece-de-theatre-seul-en-scene-splaouch/
LOCATION:Salle André Ravier\, 785 Av. de la Mairie\, Eaunes\, France
CATEGORIES:Culture,Spectacle
ATTACH;FMTTYPE=image/jpeg:https://www.mediaeaunes.fr/wp-content/uploads/2023/01/philippe-bourillon.jpg
ORGANIZER;CN="Service%20Culture":MAILTO:billeterie@mairieaunes.fr
END:VEVENT
BEGIN:VEVENT
DTSTART;TZID=Europe/Paris:20231011T150000
DTEND;TZID=Europe/Paris:20231011T160000
DTSTAMP:20260422T092127
CREATED:20230906T073921Z
LAST-MODIFIED:20230925T075637Z
UID:10000379-1697036400-1697040000@www.mediaeaunes.fr
SUMMARY:Atelier alimentation
DESCRIPTION:Grâce à cet atelier\, vous découvrirez les recommandations du Plan National Nutrition Santé (PNNS) pour donner une alimentation saine et équilibrée\, aux enfants âgés de 0 à 3 ans lors de la collation du matin et du goûter de l’après-midi.  \n\n\n\nRecettes maison\, quantités nutritionnelles ou encore diversification alimentaire seront évoquées lors de cet atelier. Des jeux d’analyse sur les étiquettes de gâteaux et boissons industriels seront réalisés\, dans le cadre de ces activités\, les parents peuvent apporter le goûter de leurs enfants. \n\n\n\nAtelier animé par Sarah Albus\, Conseillère en Économie Sociale et Familiale au CCAS d’Eaunes. \n\n\n\n\nMercredi 11 octobre à 15h00\n\n\n\nSans inscription
URL:https://www.mediaeaunes.fr/evenement/atelier-alimentation/
LOCATION:Salle André Ravier\, 785 Av. de la Mairie\, Eaunes\, France
CATEGORIES:Atelier,Culture,Evénement annuel
ATTACH;FMTTYPE=image/jpeg:https://www.mediaeaunes.fr/wp-content/uploads/2023/09/alimentation-scaled.jpeg
ORGANIZER;CN="CCAS":MAILTO:service.ccas@mairieaunes.fr
END:VEVENT
BEGIN:VEVENT
DTSTART;TZID=Europe/Paris:20231014T100000
DTEND;TZID=Europe/Paris:20231014T120000
DTSTAMP:20260422T092127
CREATED:20230906T074844Z
LAST-MODIFIED:20230925T075705Z
UID:10000380-1697277600-1697284800@www.mediaeaunes.fr
SUMMARY:Initiation au yoga
DESCRIPTION:Cathy Jaud Vincent enseigne le yoga adultes et enfants avec passion depuis une dizaine d’années. Les séances adultes et enfants permettent une pause\, une harmonie\, un temps privilégié avec les bambins.  \n\n\n\nLes bienfaits du yoga comme de la méditation et de la sono thérapie prouvent scientifiquement la bonne circulation énergétique qui permet le bien-être physique et émotionnel. \n\n\n\nAtelier animé par Cathy Jaud Vincent \n\n\n\n\nSamedi 14 octobre : de 10h00 à 10h45 pour les 3 mois – 1 an et de 11h00 à 11h45 pour les petits sachant marcher jusqu’à 3 ans\n\n\n\nGratuit – Sur inscription au 05 62 23 23 22 ou à media.eaunes@mediaeaunes.fr
URL:https://www.mediaeaunes.fr/evenement/initiation-au-yoga/
LOCATION:Salle André Ravier\, 785 Av. de la Mairie\, Eaunes\, France
CATEGORIES:Atelier,Culture,Evénement annuel
ATTACH;FMTTYPE=image/jpeg:https://www.mediaeaunes.fr/wp-content/uploads/2023/09/yoga.jpg
ORGANIZER;CN="M%C3%A9diath%C3%A8que":MAILTO:media.eaunes@mediaeaunes.fr
END:VEVENT
BEGIN:VEVENT
DTSTART;TZID=Europe/Paris:20231028T100000
DTEND;TZID=Europe/Paris:20231028T110000
DTSTAMP:20260422T092127
CREATED:20230906T080832Z
LAST-MODIFIED:20230925T075759Z
UID:10000382-1698487200-1698490800@www.mediaeaunes.fr
SUMMARY:Bébé signe
DESCRIPTION:Découvrir les signes associés à la parole issus de la Langue des Signes Française à travers des histoires\, des comptines et des petits jeux. Cet atelier favorise l’observation\, l’imagination\, les échanges et il encourage la communication orale et gestuelle. \n\n\n\nUn joli moment de découverte et de partage ludique pour petits et grands ! Raconter\, chanter et s’amuser en signant\, c’est bien plus marrant ! \n\n\n\n\nSamedi 28 octobre de 10h00 à 10h45 \n\n\n\nGratuit – Sur inscription au 05 62 23 23 22 ou à media.eaunes@mediaeaunes.fr
URL:https://www.mediaeaunes.fr/evenement/bebe-signe/
LOCATION:Salle André Ravier\, 785 Av. de la Mairie\, Eaunes\, France
CATEGORIES:Atelier,Culture,Evénement annuel
ATTACH;FMTTYPE=image/jpeg:https://www.mediaeaunes.fr/wp-content/uploads/2023/09/illustration-signes-et-papote.jpg
ORGANIZER;CN="M%C3%A9diath%C3%A8que":MAILTO:media.eaunes@mediaeaunes.fr
END:VEVENT
END:VCALENDAR