BEGIN:VCALENDAR
VERSION:2.0
PRODID:-//Mairie d&#039;Eaunes - ECPv6.0.11//NONSGML v1.0//EN
CALSCALE:GREGORIAN
METHOD:PUBLISH
X-WR-CALNAME:Mairie d&#039;Eaunes
X-ORIGINAL-URL:https://www.mediaeaunes.fr
X-WR-CALDESC:évènements pour Mairie d&#039;Eaunes
REFRESH-INTERVAL;VALUE=DURATION:PT1H
X-Robots-Tag:noindex
X-PUBLISHED-TTL:PT1H
BEGIN:VTIMEZONE
TZID:Europe/Paris
BEGIN:DAYLIGHT
TZOFFSETFROM:+0100
TZOFFSETTO:+0200
TZNAME:CEST
DTSTART:20230326T010000
END:DAYLIGHT
BEGIN:STANDARD
TZOFFSETFROM:+0200
TZOFFSETTO:+0100
TZNAME:CET
DTSTART:20231029T010000
END:STANDARD
END:VTIMEZONE
BEGIN:VEVENT
DTSTART;TZID=Europe/Paris:20230212T133000
DTEND;TZID=Europe/Paris:20230212T163000
DTSTAMP:20260423T234242
CREATED:20230201T160954Z
LAST-MODIFIED:20230201T160955Z
UID:10000343-1676208600-1676219400@www.mediaeaunes.fr
SUMMARY:Match de rugby
DESCRIPTION:Le RCM affrontera Saverdun au Stade Marcel Calmes à Muret. \n\n\n\nDimanche 12 février  \n\n\n\nRepas à 11h30\, puis début du premier match à 13h30 et second match à 15h00. \n\n\n\nPlus de renseignements au 06 61 37 60 17
URL:https://www.mediaeaunes.fr/evenement/match-de-rugby-2/
LOCATION:Stade Marcel Calmes\, Av. Bernard IV\, 31600 Muret\, France
CATEGORIES:Associations,Sport
ATTACH;FMTTYPE=image/jpeg:https://www.mediaeaunes.fr/wp-content/uploads/2023/02/rugby.jpg
END:VEVENT
BEGIN:VEVENT
DTSTART;TZID=Europe/Paris:20230305T133000
DTEND;TZID=Europe/Paris:20230305T163000
DTSTAMP:20260423T234242
CREATED:20230201T161542Z
LAST-MODIFIED:20230201T161542Z
UID:10000345-1678023000-1678033800@www.mediaeaunes.fr
SUMMARY:Match de rugby
DESCRIPTION:Le RCM affrontera la Saudrune au Stade Marcel Calmes à Muret. \n\n\n\nDimanche 5 mars  \n\n\n\nRepas à 11h30\, puis début du premier match à 13h30 et second match à 15h00. \n\n\n\nPlus de renseignements au 06 61 37 60 17
URL:https://www.mediaeaunes.fr/evenement/match-de-rugby-3/
LOCATION:Stade Marcel Calmes\, Av. Bernard IV\, 31600 Muret\, France
CATEGORIES:Associations,Sport
ATTACH;FMTTYPE=image/jpeg:https://www.mediaeaunes.fr/wp-content/uploads/2023/02/ballon-rugby.jpg
END:VEVENT
BEGIN:VEVENT
DTSTART;TZID=Europe/Paris:20230312T133000
DTEND;TZID=Europe/Paris:20230312T163000
DTSTAMP:20260423T234242
CREATED:20230201T160917Z
LAST-MODIFIED:20230201T160918Z
UID:10000342-1678627800-1678638600@www.mediaeaunes.fr
SUMMARY:Match de rugby
DESCRIPTION:Le RCM affrontera Revel au stade Marcel Calmes à Muret. \n\n\n\nDimanche 12 mars \n\n\n\nRepas à 11h30\, puis début du premier match à 13h30 et second match à 15h00. \n\n\n\nPlus de renseignements au 06 61 37 60 17
URL:https://www.mediaeaunes.fr/evenement/match-de-rugby/
LOCATION:Stade Marcel Calmes\, Av. Bernard IV\, 31600 Muret\, France
CATEGORIES:Associations,Sport
ATTACH;FMTTYPE=image/jpeg:https://www.mediaeaunes.fr/wp-content/uploads/2023/02/rugby.jpg
END:VEVENT
END:VCALENDAR