BEGIN:VCALENDAR
VERSION:2.0
PRODID:-//Mairie d&#039;Eaunes - ECPv6.0.11//NONSGML v1.0//EN
CALSCALE:GREGORIAN
METHOD:PUBLISH
X-ORIGINAL-URL:https://www.mediaeaunes.fr
X-WR-CALDESC:évènements pour Mairie d&#039;Eaunes
REFRESH-INTERVAL;VALUE=DURATION:PT1H
X-Robots-Tag:noindex
X-PUBLISHED-TTL:PT1H
BEGIN:VTIMEZONE
TZID:Europe/Paris
BEGIN:DAYLIGHT
TZOFFSETFROM:+0100
TZOFFSETTO:+0200
TZNAME:CEST
DTSTART:20210328T010000
END:DAYLIGHT
BEGIN:STANDARD
TZOFFSETFROM:+0200
TZOFFSETTO:+0100
TZNAME:CET
DTSTART:20211031T010000
END:STANDARD
END:VTIMEZONE
BEGIN:VEVENT
DTSTART;TZID=Europe/Paris:20211126T000000
DTEND;TZID=Europe/Paris:20211127T235959
DTSTAMP:20260423T110717
CREATED:20211013T121138Z
LAST-MODIFIED:20211119T091512Z
UID:10000294-1637884800-1638057599@www.mediaeaunes.fr
SUMMARY:Collecte Banque Alimentaire
DESCRIPTION:La collecte de la Banque Alimentaire aura lieu le vendredi 26 et le samedi 27 novembre 2021 de 9h00 à 19h00\, au Super U d’Eaunes en partenariat avec le CCAS et les élus. \n\n\n\nL’aide alimentaire permet d’accompagner un public très nombreux et différent à l’échelle de la commune et de la Région. La collecte sera répartie entre les différentes associations locales qui les redistribueront sous forme de colis alimentaires aux administrés afin de lutter contre la précarité et le gaspillage alimentaire. \n\n\n\nLe résultat de cette action dépend de nous tous ! Soyez au rendez-vous au contact des bénévoles\, grâce à vos dons vous viendrez en aide à de nombreux bénéficiaires dans le besoin.Nous comptons sur votre participation et nous remercions par avance les généreux donateurs et bénévoles qui se rendront disponibles pour cette action.
URL:https://www.mediaeaunes.fr/evenement/collecte-banque-alimentaire/
LOCATION:Super U Eaunes\, ZAC du Mandarin\, Bd de la Lèze\, EAUNES\, 31600\, France
ATTACH;FMTTYPE=image/png:https://www.mediaeaunes.fr/wp-content/uploads/2021/10/images.png
END:VEVENT
END:VCALENDAR