BEGIN:VCALENDAR
VERSION:2.0
PRODID:-//Mairie d&#039;Eaunes - ECPv6.0.11//NONSGML v1.0//EN
CALSCALE:GREGORIAN
METHOD:PUBLISH
X-ORIGINAL-URL:https://www.mediaeaunes.fr
X-WR-CALDESC:évènements pour Mairie d&#039;Eaunes
REFRESH-INTERVAL;VALUE=DURATION:PT1H
X-Robots-Tag:noindex
X-PUBLISHED-TTL:PT1H
BEGIN:VTIMEZONE
TZID:Europe/Paris
BEGIN:DAYLIGHT
TZOFFSETFROM:+0100
TZOFFSETTO:+0200
TZNAME:CEST
DTSTART:20230326T010000
END:DAYLIGHT
BEGIN:STANDARD
TZOFFSETFROM:+0200
TZOFFSETTO:+0100
TZNAME:CET
DTSTART:20231029T010000
END:STANDARD
END:VTIMEZONE
BEGIN:VEVENT
DTSTART;TZID=Europe/Paris:20230615T180000
DTEND;TZID=Europe/Paris:20230615T233000
DTSTAMP:20260423T184406
CREATED:20230609T152951Z
LAST-MODIFIED:20230609T152953Z
UID:10000360-1686852000-1686871800@www.mediaeaunes.fr
SUMMARY:Repas Dansant
DESCRIPTION:L’Amicale des Aînés organise un repas dansant salle Damien Garrigues le jeudi 15 juin. \n\n\n\nPlus d’informations sur l’association ici
URL:https://www.mediaeaunes.fr/evenement/repas-dansant-2/
LOCATION:Salle Damien Garrigues\, 789 avenue de la mairie\, Eaunes\, 31600
CATEGORIES:Associations
ATTACH;FMTTYPE=image/png:https://www.mediaeaunes.fr/wp-content/uploads/2023/06/Repas-Dansant.png
END:VEVENT
END:VCALENDAR