BEGIN:VCALENDAR
VERSION:2.0
PRODID:-//Mairie d&#039;Eaunes - ECPv6.0.11//NONSGML v1.0//EN
CALSCALE:GREGORIAN
METHOD:PUBLISH
X-WR-CALNAME:Mairie d&#039;Eaunes
X-ORIGINAL-URL:https://www.mediaeaunes.fr
X-WR-CALDESC:évènements pour Mairie d&#039;Eaunes
REFRESH-INTERVAL;VALUE=DURATION:PT1H
X-Robots-Tag:noindex
X-PUBLISHED-TTL:PT1H
BEGIN:VTIMEZONE
TZID:Europe/Paris
BEGIN:DAYLIGHT
TZOFFSETFROM:+0100
TZOFFSETTO:+0200
TZNAME:CEST
DTSTART:20240331T010000
END:DAYLIGHT
BEGIN:STANDARD
TZOFFSETFROM:+0200
TZOFFSETTO:+0100
TZNAME:CET
DTSTART:20241027T010000
END:STANDARD
END:VTIMEZONE
BEGIN:VEVENT
DTSTART;TZID=Europe/Paris:20241116T090000
DTEND;TZID=Europe/Paris:20241116T180000
DTSTAMP:20260423T151906
CREATED:20241104T143436Z
LAST-MODIFIED:20241104T143438Z
UID:10000466-1731747600-1731780000@www.mediaeaunes.fr
SUMMARY:Bourse aux jouets et aux livres
DESCRIPTION:Bourse aux jouets et aux livres organisée par l’association Philanthrope.  \n\n\n\n\nInscription obligatoire \n\n\n\nDépôt à l’association à asso.philanthrope.eaunes@gmail.com\n\n\n\nVente samedi 16 novembre \n\n\n\nContact : 06 95 91 92 27
URL:https://www.mediaeaunes.fr/evenement/bourse-aux-jouets-et-aux-livres-2/
LOCATION:Centre Hermès\, 145 Avenue de la Mairie\, eaunes\, 31600\, France
CATEGORIES:Associations
ATTACH;FMTTYPE=image/jpeg:https://www.mediaeaunes.fr/wp-content/uploads/2024/11/jouets.jpg
END:VEVENT
END:VCALENDAR