BEGIN:VCALENDAR
VERSION:2.0
PRODID:-//Mairie d&#039;Eaunes - ECPv6.0.11//NONSGML v1.0//EN
CALSCALE:GREGORIAN
METHOD:PUBLISH
X-WR-CALNAME:Mairie d&#039;Eaunes
X-ORIGINAL-URL:https://www.mediaeaunes.fr
X-WR-CALDESC:évènements pour Mairie d&#039;Eaunes
REFRESH-INTERVAL;VALUE=DURATION:PT1H
X-Robots-Tag:noindex
X-PUBLISHED-TTL:PT1H
BEGIN:VTIMEZONE
TZID:Europe/Paris
BEGIN:DAYLIGHT
TZOFFSETFROM:+0100
TZOFFSETTO:+0200
TZNAME:CEST
DTSTART:20220327T010000
END:DAYLIGHT
BEGIN:STANDARD
TZOFFSETFROM:+0200
TZOFFSETTO:+0100
TZNAME:CET
DTSTART:20221030T010000
END:STANDARD
END:VTIMEZONE
BEGIN:VEVENT
DTSTART;TZID=Europe/Paris:20220703T000000
DTEND;TZID=Europe/Paris:20220703T235959
DTSTAMP:20260423T154716
CREATED:20220609T090526Z
LAST-MODIFIED:20220609T090527Z
UID:10000246-1656806400-1656892799@www.mediaeaunes.fr
SUMMARY:Spectacle fin d'année AZAG
DESCRIPTION:Organisé par l’association AZAG \n\n\n\nPour plus d’informations contacter l’association ici
URL:https://www.mediaeaunes.fr/evenement/spectacle-fin-dannee-azag/
LOCATION:Centre Hermès\, 145 Avenue de la Mairie\, eaunes\, 31600\, France
CATEGORIES:Associations
ATTACH;FMTTYPE=image/png:https://www.mediaeaunes.fr/wp-content/uploads/2022/06/masks-g378ed0f9a_1280.png
END:VEVENT
END:VCALENDAR