BEGIN:VCALENDAR
VERSION:2.0
PRODID:-//Mairie d&#039;Eaunes - ECPv6.0.11//NONSGML v1.0//EN
CALSCALE:GREGORIAN
METHOD:PUBLISH
X-WR-CALNAME:Mairie d&#039;Eaunes
X-ORIGINAL-URL:https://www.mediaeaunes.fr
X-WR-CALDESC:évènements pour Mairie d&#039;Eaunes
REFRESH-INTERVAL;VALUE=DURATION:PT1H
X-Robots-Tag:noindex
X-PUBLISHED-TTL:PT1H
BEGIN:VTIMEZONE
TZID:Europe/Paris
BEGIN:DAYLIGHT
TZOFFSETFROM:+0100
TZOFFSETTO:+0200
TZNAME:CEST
DTSTART:20240331T010000
END:DAYLIGHT
BEGIN:STANDARD
TZOFFSETFROM:+0200
TZOFFSETTO:+0100
TZNAME:CET
DTSTART:20241027T010000
END:STANDARD
END:VTIMEZONE
BEGIN:VEVENT
DTSTART;TZID=Europe/Paris:20241005T140000
DTEND;TZID=Europe/Paris:20241005T180000
DTSTAMP:20260422T014344
CREATED:20240912T101412Z
LAST-MODIFIED:20240912T101414Z
UID:10000452-1728136800-1728151200@www.mediaeaunes.fr
SUMMARY:Octobre Rose
DESCRIPTION:Pour la quatrième année consécutive\, la Mairie et le CCAS se mobilisent pour Octobre Rose\, le mois dédié à la sensibilisation au dépistage du cancer du sein.Au programme : la marche traditionnelle au départ de la mairie\, ainsi que des animations sportives et musicales au parc de l’abbaye ! \n\n\n\n\nSamedi 5 octobre\n\n\n\nÀ partir de 14h00\n\n\n\nDépart de la Mairie
URL:https://www.mediaeaunes.fr/evenement/octobre-rose-2/
LOCATION:Mairie d’Eaunes\, 1 Place des Champs de Vignes\, 31600 Eaunes
CATEGORIES:Animation,Associations,Atelier,Evénement annuel,Sport
ATTACH;FMTTYPE=image/png:https://www.mediaeaunes.fr/wp-content/uploads/2024/09/affiche-octobre-rose-111.png
ORGANIZER;CN="Centre%20Communal%20d%27Action%20Sociale":MAILTO:service.ccas@mairieaunes.fr
END:VEVENT
END:VCALENDAR