BEGIN:VCALENDAR
VERSION:2.0
PRODID:-//Mairie d&#039;Eaunes - ECPv6.0.11//NONSGML v1.0//EN
CALSCALE:GREGORIAN
METHOD:PUBLISH
X-ORIGINAL-URL:https://www.mediaeaunes.fr
X-WR-CALDESC:évènements pour Mairie d&#039;Eaunes
REFRESH-INTERVAL;VALUE=DURATION:PT1H
X-Robots-Tag:noindex
X-PUBLISHED-TTL:PT1H
BEGIN:VTIMEZONE
TZID:Europe/Paris
BEGIN:DAYLIGHT
TZOFFSETFROM:+0100
TZOFFSETTO:+0200
TZNAME:CEST
DTSTART:20230326T010000
END:DAYLIGHT
BEGIN:STANDARD
TZOFFSETFROM:+0200
TZOFFSETTO:+0100
TZNAME:CET
DTSTART:20231029T010000
END:STANDARD
BEGIN:DAYLIGHT
TZOFFSETFROM:+0100
TZOFFSETTO:+0200
TZNAME:CEST
DTSTART:20240331T010000
END:DAYLIGHT
BEGIN:STANDARD
TZOFFSETFROM:+0200
TZOFFSETTO:+0100
TZNAME:CET
DTSTART:20241027T010000
END:STANDARD
BEGIN:DAYLIGHT
TZOFFSETFROM:+0100
TZOFFSETTO:+0200
TZNAME:CEST
DTSTART:20250330T010000
END:DAYLIGHT
BEGIN:STANDARD
TZOFFSETFROM:+0200
TZOFFSETTO:+0100
TZNAME:CET
DTSTART:20251026T010000
END:STANDARD
END:VTIMEZONE
BEGIN:VEVENT
DTSTART;TZID=Europe/Paris:20250111T173000
DTEND;TZID=Europe/Paris:20250111T230000
DTSTAMP:20260422T170834
CREATED:20241210T130644Z
LAST-MODIFIED:20241210T130646Z
UID:10000474-1736616600-1736636400@www.mediaeaunes.fr
SUMMARY:Panevin : fête traditionnelle italienne
DESCRIPTION:Plongez dans la tradition italienne avec le Panevin\, une fête conviviale pour petits et grands organisée par l’association Comité de Jumelage. \n\n\n\nAu programme : \n\n\n\n\nDéambulation festive\, à partir de 17h45\, au départ du Centre Hermès jusqu’au parc de l’Abbaye.\n\n\n\nGrand bûcher pour brûler la Befana\, sorcière symbole de renouveau.\n\n\n\nRestauration sur place avec des spécialités italiennes. \n\n\n\n\nVenez partager ce moment chaleureux en famille ou entre amis.Rendez-vous le 11 janvier !
URL:https://www.mediaeaunes.fr/evenement/panevin-fete-traditionnelle-italienne/
LOCATION:Centre Hermès\, 145 Avenue de la Mairie\, eaunes\, 31600\, France
CATEGORIES:Associations
ATTACH;FMTTYPE=image/jpeg:https://www.mediaeaunes.fr/wp-content/uploads/2024/12/sorciere-befana.jpg
END:VEVENT
BEGIN:VEVENT
DTSTART;TZID=Europe/Paris:20231028T193000
DTEND;TZID=Europe/Paris:20231028T230000
DTSTAMP:20260422T170834
CREATED:20231003T134543Z
LAST-MODIFIED:20231020T083323Z
UID:10000390-1698521400-1698534000@www.mediaeaunes.fr
SUMMARY:Soirée finale de la Coupe du Monde de Rugby
DESCRIPTION:Le Comité de Jumelage d’Eaunes diffusera au Centre Hermès\, la finale de la Coupe du Monde de Rugby. Cette retransmission sera suivie d’une soirée dansante. \n\n\n\n\nSamedi 28 octobre \n\n\n\nCentre Hermès\n\n\n\n\nPlus d’informations au 06.61.25.06.19
URL:https://www.mediaeaunes.fr/evenement/soiree-finale-de-la-coupe-du-monde-de-rugby/
LOCATION:Centre Hermès\, 145 Avenue de la Mairie\, eaunes\, 31600\, France
CATEGORIES:Associations
ATTACH;FMTTYPE=image/jpeg:https://www.mediaeaunes.fr/wp-content/uploads/2023/10/rugbyyy.jpg
END:VEVENT
END:VCALENDAR