BEGIN:VCALENDAR
VERSION:2.0
PRODID:-//Mairie d&#039;Eaunes - ECPv6.0.11//NONSGML v1.0//EN
CALSCALE:GREGORIAN
METHOD:PUBLISH
X-ORIGINAL-URL:https://www.mediaeaunes.fr
X-WR-CALDESC:évènements pour Mairie d&#039;Eaunes
REFRESH-INTERVAL;VALUE=DURATION:PT1H
X-Robots-Tag:noindex
X-PUBLISHED-TTL:PT1H
BEGIN:VTIMEZONE
TZID:Europe/Paris
BEGIN:DAYLIGHT
TZOFFSETFROM:+0100
TZOFFSETTO:+0200
TZNAME:CEST
DTSTART:20230326T010000
END:DAYLIGHT
BEGIN:STANDARD
TZOFFSETFROM:+0200
TZOFFSETTO:+0100
TZNAME:CET
DTSTART:20231029T010000
END:STANDARD
END:VTIMEZONE
BEGIN:VEVENT
DTSTART;TZID=Europe/Paris:20231008T080000
DTEND;TZID=Europe/Paris:20231008T170000
DTSTAMP:20260422T080052
CREATED:20231002T153131Z
LAST-MODIFIED:20231003T133526Z
UID:10000388-1696752000-1696784400@www.mediaeaunes.fr
SUMMARY:Puces des couturières
DESCRIPTION:L’association Eaunes Loisirs organise les Puces des couturières. \n\n\n\n\nDimanche 8 octobre \n\n\n\nCentre Hermès\n\n\n\n\nPlus de renseignements au 06.47.37.54.60
URL:https://www.mediaeaunes.fr/evenement/puces-des-couturieres-2/
LOCATION:Centre Hermès\, 145 Avenue de la Mairie\, eaunes\, 31600\, France
CATEGORIES:Associations
ATTACH;FMTTYPE=image/jpeg:https://www.mediaeaunes.fr/wp-content/uploads/2023/10/puces-couturieres.jpg
END:VEVENT
END:VCALENDAR