BEGIN:VCALENDAR
VERSION:2.0
PRODID:-//Mairie d&#039;Eaunes - ECPv6.0.11//NONSGML v1.0//EN
CALSCALE:GREGORIAN
METHOD:PUBLISH
X-WR-CALNAME:Mairie d&#039;Eaunes
X-ORIGINAL-URL:https://www.mediaeaunes.fr
X-WR-CALDESC:évènements pour Mairie d&#039;Eaunes
REFRESH-INTERVAL;VALUE=DURATION:PT1H
X-Robots-Tag:noindex
X-PUBLISHED-TTL:PT1H
BEGIN:VTIMEZONE
TZID:Europe/Paris
BEGIN:DAYLIGHT
TZOFFSETFROM:+0100
TZOFFSETTO:+0200
TZNAME:CEST
DTSTART:20240331T010000
END:DAYLIGHT
BEGIN:STANDARD
TZOFFSETFROM:+0200
TZOFFSETTO:+0100
TZNAME:CET
DTSTART:20241027T010000
END:STANDARD
END:VTIMEZONE
BEGIN:VEVENT
DTSTART;TZID=Europe/Paris:20241020T090000
DTEND;TZID=Europe/Paris:20241020T180000
DTSTAMP:20260422T014248
CREATED:20240930T073209Z
LAST-MODIFIED:20240930T073211Z
UID:10000459-1729414800-1729447200@www.mediaeaunes.fr
SUMMARY:Puces des couturières
DESCRIPTION:L’association Eaunes Loisirs organise les « Puces des couturières » et loisirs créatifs et son marché du « fait-main ». \n\n\n\n\nDimanche 20 octobre\n\n\n\nDe 9h00 à 18h00 \n\n\n\nCentre Hermès\n\n\n\nPlus d’infos à eaunes.loisirs@gmail.com
URL:https://www.mediaeaunes.fr/evenement/puces-des-couturieres-3/
LOCATION:Centre Hermès\, 145 Avenue de la Mairie\, eaunes\, 31600\, France
CATEGORIES:Associations
ATTACH;FMTTYPE=image/jpeg:https://www.mediaeaunes.fr/wp-content/uploads/2024/09/puuuces-couturires.jpg
ORGANIZER;CN="Eaunes%20Loisirs":MAILTO:eaunes.loisirs@gmail.com
END:VEVENT
END:VCALENDAR