BEGIN:VCALENDAR
VERSION:2.0
PRODID:-//Mairie d&#039;Eaunes - ECPv6.0.11//NONSGML v1.0//EN
CALSCALE:GREGORIAN
METHOD:PUBLISH
X-WR-CALNAME:Mairie d&#039;Eaunes
X-ORIGINAL-URL:https://www.mediaeaunes.fr
X-WR-CALDESC:évènements pour Mairie d&#039;Eaunes
REFRESH-INTERVAL;VALUE=DURATION:PT1H
X-Robots-Tag:noindex
X-PUBLISHED-TTL:PT1H
BEGIN:VTIMEZONE
TZID:Europe/Paris
BEGIN:DAYLIGHT
TZOFFSETFROM:+0100
TZOFFSETTO:+0200
TZNAME:CEST
DTSTART:20210328T010000
END:DAYLIGHT
BEGIN:STANDARD
TZOFFSETFROM:+0200
TZOFFSETTO:+0100
TZNAME:CET
DTSTART:20211031T010000
END:STANDARD
END:VTIMEZONE
BEGIN:VEVENT
DTSTART;TZID=Europe/Paris:20211115T140000
DTEND;TZID=Europe/Paris:20211115T190000
DTSTAMP:20260423T190118
CREATED:20211019T075248Z
LAST-MODIFIED:20211019T075248Z
UID:10000296-1636984800-1637002800@www.mediaeaunes.fr
SUMMARY:Don de sang
DESCRIPTION:La prochaine collecte aura lieu le lundi 15 novembre au Centre Hermès de 14h à 19h. \nVous êtes volontaires au don ? \nIl vous faut prendre rendez-vous sur mon-rdv-dondesang.efs.sante.fr ou en appelant le numéro vert gratuit de l’EFS 0 800 972 100.
URL:https://www.mediaeaunes.fr/evenement/don-de-sang/
LOCATION:Centre Hermès\, 145 Avenue de la Mairie\, eaunes\, 31600\, France
ATTACH;FMTTYPE=image/jpeg:https://www.mediaeaunes.fr/wp-content/uploads/2021/10/Couv-FBK-profil-AMB_Ambassadonneurs-2019.jpg
END:VEVENT
END:VCALENDAR