BEGIN:VCALENDAR
VERSION:2.0
PRODID:-//Mairie d&#039;Eaunes - ECPv6.0.11//NONSGML v1.0//EN
CALSCALE:GREGORIAN
METHOD:PUBLISH
X-ORIGINAL-URL:https://www.mediaeaunes.fr
X-WR-CALDESC:évènements pour Mairie d&#039;Eaunes
REFRESH-INTERVAL;VALUE=DURATION:PT1H
X-Robots-Tag:noindex
X-PUBLISHED-TTL:PT1H
BEGIN:VTIMEZONE
TZID:Europe/Paris
BEGIN:DAYLIGHT
TZOFFSETFROM:+0100
TZOFFSETTO:+0200
TZNAME:CEST
DTSTART:20240331T010000
END:DAYLIGHT
BEGIN:STANDARD
TZOFFSETFROM:+0200
TZOFFSETTO:+0100
TZNAME:CET
DTSTART:20241027T010000
END:STANDARD
BEGIN:DAYLIGHT
TZOFFSETFROM:+0100
TZOFFSETTO:+0200
TZNAME:CEST
DTSTART:20250330T010000
END:DAYLIGHT
BEGIN:STANDARD
TZOFFSETFROM:+0200
TZOFFSETTO:+0100
TZNAME:CET
DTSTART:20251026T010000
END:STANDARD
END:VTIMEZONE
BEGIN:VEVENT
DTSTART;TZID=Europe/Paris:20250118T140000
DTEND;TZID=Europe/Paris:20250118T180000
DTSTAMP:20260421T224115
CREATED:20241210T131814Z
LAST-MODIFIED:20241210T131816Z
UID:10000477-1737208800-1737223200@www.mediaeaunes.fr
SUMMARY:Game On à Eaunes : jeux vidéo\, jeux de société et bonne humeur !
DESCRIPTION:L’association Jeunesse Loisirs Eaunes et l’Espace Jeunes organisent une après-midi jeux (jeux de société\, jeux en bois et jeux vidéo) ainsi qu’une tombola. \n\n\n\n\nSamedi 18 janvier\n\n\n\nÀ partir de 14h00\n\n\n\nCentre Hermès\n\n\n\nRestauration sur place \n\n\n\nEntrée libre\n\n\n\nTournoi de jeux vidéo payants\n\n\n\nPlus d’informations au 06 50 48 11 76
URL:https://www.mediaeaunes.fr/evenement/game-on-a-eaunes-jeux-video-jeux-de-societe-et-bonne-humeur/
LOCATION:Centre Hermès\, 145 Avenue de la Mairie\, eaunes\, 31600\, France
ATTACH;FMTTYPE=image/jpeg:https://www.mediaeaunes.fr/wp-content/uploads/2024/12/jeux-video.jpg
ORGANIZER;CN="Espace%20Jeunes":MAILTO:espacejeunes.eaunes@gmail.com
END:VEVENT
BEGIN:VEVENT
DTSTART;TZID=Europe/Paris:20241214T143000
DTEND;TZID=Europe/Paris:20241214T183000
DTSTAMP:20260421T224115
CREATED:20241210T125708Z
LAST-MODIFIED:20241210T125710Z
UID:10000473-1734186600-1734201000@www.mediaeaunes.fr
SUMMARY:Emballage papier cadeaux
DESCRIPTION:L’Espace Jeunes vous invite à faire emballer vos cadeaux tout en soutenant un projet solidaire ! Les fonds récoltés contribueront à autofinancer un voyage en Italie. Sur place\, profitez également de la vente de chocolat chaud\, thé\, café et biscuits de Noël. \n\n\n\n\nSamedi 30 novembre et samedi 14 décembre\n\n\n\nDe 14h30 à 18h30\n\n\n\nLa restouble – 3 place du Bicentenaire\, 31600 Eaunes\n\n\n\nParticipation libre\n\n\n\nPlus de renseignements au 06 07 69 26 62
URL:https://www.mediaeaunes.fr/evenement/emballage-papier-cadeaux/
LOCATION:La Restouble\, 3 place du Bicentenaire
CATEGORIES:Associations,Événement
ATTACH;FMTTYPE=image/jpeg:https://www.mediaeaunes.fr/wp-content/uploads/2024/12/emballage-cadeau.jpg
ORGANIZER;CN="Espace%20Jeunes":MAILTO:espacejeunes.eaunes@gmail.com
END:VEVENT
END:VCALENDAR