BEGIN:VCALENDAR
VERSION:2.0
PRODID:-//Mairie d&#039;Eaunes - ECPv6.0.11//NONSGML v1.0//EN
CALSCALE:GREGORIAN
METHOD:PUBLISH
X-ORIGINAL-URL:https://www.mediaeaunes.fr
X-WR-CALDESC:évènements pour Mairie d&#039;Eaunes
REFRESH-INTERVAL;VALUE=DURATION:PT1H
X-Robots-Tag:noindex
X-PUBLISHED-TTL:PT1H
BEGIN:VTIMEZONE
TZID:Europe/Paris
BEGIN:DAYLIGHT
TZOFFSETFROM:+0100
TZOFFSETTO:+0200
TZNAME:CEST
DTSTART:20230326T010000
END:DAYLIGHT
BEGIN:STANDARD
TZOFFSETFROM:+0200
TZOFFSETTO:+0100
TZNAME:CET
DTSTART:20231029T010000
END:STANDARD
END:VTIMEZONE
BEGIN:VEVENT
DTSTART;TZID=Europe/Paris:20231126T140000
DTEND;TZID=Europe/Paris:20231126T180000
DTSTAMP:20260422T112809
CREATED:20231003T143613Z
LAST-MODIFIED:20231110T104815Z
UID:10000392-1701007200-1701021600@www.mediaeaunes.fr
SUMMARY:Loto
DESCRIPTION:Le FCEL organise un loto. \n\n\n\n\nDimanche 26 novembre\n\n\n\nOuverture des portes à  14h00 \n\n\n\nLe loto débutera à 15h00\n\n\n\nCentre Hermès\n\n\n\n\nPlus d’informations au 06.12.34.05.64
URL:https://www.mediaeaunes.fr/evenement/loto-3/
LOCATION:Centre Hermès\, 145 Avenue de la Mairie\, eaunes\, 31600\, France
CATEGORIES:Associations
ATTACH;FMTTYPE=image/jpeg:https://www.mediaeaunes.fr/wp-content/uploads/2023/10/loto.jpg
END:VEVENT
END:VCALENDAR