BEGIN:VCALENDAR
VERSION:2.0
PRODID:-//Mairie d&#039;Eaunes - ECPv6.0.11//NONSGML v1.0//EN
CALSCALE:GREGORIAN
METHOD:PUBLISH
X-ORIGINAL-URL:https://www.mediaeaunes.fr
X-WR-CALDESC:évènements pour Mairie d&#039;Eaunes
REFRESH-INTERVAL;VALUE=DURATION:PT1H
X-Robots-Tag:noindex
X-PUBLISHED-TTL:PT1H
BEGIN:VTIMEZONE
TZID:Europe/Paris
BEGIN:DAYLIGHT
TZOFFSETFROM:+0100
TZOFFSETTO:+0200
TZNAME:CEST
DTSTART:20230326T010000
END:DAYLIGHT
BEGIN:STANDARD
TZOFFSETFROM:+0200
TZOFFSETTO:+0100
TZNAME:CET
DTSTART:20231029T010000
END:STANDARD
BEGIN:DAYLIGHT
TZOFFSETFROM:+0100
TZOFFSETTO:+0200
TZNAME:CEST
DTSTART:20240331T010000
END:DAYLIGHT
BEGIN:STANDARD
TZOFFSETFROM:+0200
TZOFFSETTO:+0100
TZNAME:CET
DTSTART:20241027T010000
END:STANDARD
BEGIN:DAYLIGHT
TZOFFSETFROM:+0100
TZOFFSETTO:+0200
TZNAME:CEST
DTSTART:20250330T010000
END:DAYLIGHT
BEGIN:STANDARD
TZOFFSETFROM:+0200
TZOFFSETTO:+0100
TZNAME:CET
DTSTART:20251026T010000
END:STANDARD
END:VTIMEZONE
BEGIN:VEVENT
DTSTART;TZID=Europe/Paris:20251213T100000
DTEND;TZID=Europe/Paris:20251214T190000
DTSTAMP:20260425T174009
CREATED:20251201T135309Z
LAST-MODIFIED:20251201T152525Z
UID:10000556-1765620000-1765738800@www.mediaeaunes.fr
SUMMARY:Salon du bien-être
DESCRIPTION:Organisé par l’association Les Belles Journées du Bien-être \n\n\n\n10 ème édition du salon « Les belles journées du bien-être » samedi 13 et dimanche 14 décembre 2025 au Centre Hermès. \n\n\n\n\nEntrée gratuite\n\n\n\nConférences et ateliers gratuits\n\n\n\nIdées cadeaux\n\n\n\nBuvette et restauration sur place
URL:https://www.mediaeaunes.fr/evenement/salon-du-bien-etre-4/
LOCATION:Centre Hermès\, 145 Avenue de la Mairie\, eaunes\, 31600\, France
CATEGORIES:Associations,Événement
ATTACH;FMTTYPE=image/png:https://www.mediaeaunes.fr/wp-content/uploads/2025/12/bien-etre1.png
END:VEVENT
BEGIN:VEVENT
DTSTART;TZID=Europe/Paris:20231209T100000
DTEND;TZID=Europe/Paris:20231210T190000
DTSTAMP:20260425T174009
CREATED:20231127T155437Z
LAST-MODIFIED:20231127T155439Z
UID:10000402-1702116000-1702234800@www.mediaeaunes.fr
SUMMARY:Salon du bien-être
DESCRIPTION:Organisé par Les Belles Journées du Bien-être.  \n\n\n\nRencontrez des thérapeutes professionnels ravis de vous renseigner sur leur activité\, découvrez des ateliers et des conférences de qualité\, ainsi que des produits et articles liés au bien-être.
URL:https://www.mediaeaunes.fr/evenement/salon-du-bien-etre-3/
LOCATION:Centre Hermès\, 145 Avenue de la Mairie\, eaunes\, 31600\, France
CATEGORIES:Associations
ATTACH;FMTTYPE=image/jpeg:https://www.mediaeaunes.fr/wp-content/uploads/2023/11/salon-bienEtre.jpg
END:VEVENT
END:VCALENDAR