BEGIN:VCALENDAR
VERSION:2.0
PRODID:-//Mairie d&#039;Eaunes - ECPv6.0.11//NONSGML v1.0//EN
CALSCALE:GREGORIAN
METHOD:PUBLISH
X-WR-CALNAME:Mairie d&#039;Eaunes
X-ORIGINAL-URL:https://www.mediaeaunes.fr
X-WR-CALDESC:évènements pour Mairie d&#039;Eaunes
REFRESH-INTERVAL;VALUE=DURATION:PT1H
X-Robots-Tag:noindex
X-PUBLISHED-TTL:PT1H
BEGIN:VTIMEZONE
TZID:Europe/Paris
BEGIN:DAYLIGHT
TZOFFSETFROM:+0100
TZOFFSETTO:+0200
TZNAME:CEST
DTSTART:20220327T010000
END:DAYLIGHT
BEGIN:STANDARD
TZOFFSETFROM:+0200
TZOFFSETTO:+0100
TZNAME:CET
DTSTART:20221030T010000
END:STANDARD
BEGIN:DAYLIGHT
TZOFFSETFROM:+0100
TZOFFSETTO:+0200
TZNAME:CEST
DTSTART:20230326T010000
END:DAYLIGHT
BEGIN:STANDARD
TZOFFSETFROM:+0200
TZOFFSETTO:+0100
TZNAME:CET
DTSTART:20231029T010000
END:STANDARD
BEGIN:DAYLIGHT
TZOFFSETFROM:+0100
TZOFFSETTO:+0200
TZNAME:CEST
DTSTART:20240331T010000
END:DAYLIGHT
BEGIN:STANDARD
TZOFFSETFROM:+0200
TZOFFSETTO:+0100
TZNAME:CET
DTSTART:20241027T010000
END:STANDARD
END:VTIMEZONE
BEGIN:VEVENT
DTSTART;TZID=Europe/Paris:20240211T133000
DTEND;TZID=Europe/Paris:20240211T170000
DTSTAMP:20260421T153925
CREATED:20240201T084809Z
LAST-MODIFIED:20240201T084858Z
UID:10000408-1707658200-1707670800@www.mediaeaunes.fr
SUMMARY:Loto
DESCRIPTION:Le RC Eaunes basket organise un loto au Centre Hermès. \n\n\n\n\nSamedi 10 février \n\n\n\nOuverture des portes à 13h30\, démarrage du loto à 14h30\n\n\n\nCentre Hermès\n\n\n\n\nPlus d’informations au 06.78.68.92.55
URL:https://www.mediaeaunes.fr/evenement/loto-4/
LOCATION:Centre Hermès\, 145 Avenue de la Mairie\, eaunes\, 31600\, France
CATEGORIES:Associations
ATTACH;FMTTYPE=image/jpeg:https://www.mediaeaunes.fr/wp-content/uploads/2024/01/loto.jpg
END:VEVENT
BEGIN:VEVENT
DTSTART;TZID=Europe/Paris:20220130T000000
DTEND;TZID=Europe/Paris:20220130T235959
DTSTAMP:20260421T153925
CREATED:20220121T082141Z
LAST-MODIFIED:20220121T082141Z
UID:10000244-1643500800-1643587199@www.mediaeaunes.fr
SUMMARY:Loto RC Eaunes Basket
DESCRIPTION:Organisé par le RC Eaunes Basket \n\n\n\nPour plus d’informations contacter l’association ici
URL:https://www.mediaeaunes.fr/evenement/loto-rc-eaunes-basket/
LOCATION:Centre Hermès\, 145 Avenue de la Mairie\, eaunes\, 31600\, France
CATEGORIES:Associations
ATTACH;FMTTYPE=image/jpeg:https://www.mediaeaunes.fr/wp-content/uploads/2021/06/table-game-4572818_1280.jpg
END:VEVENT
END:VCALENDAR