BEGIN:VCALENDAR
VERSION:2.0
PRODID:-//Mairie d&#039;Eaunes - ECPv6.0.11//NONSGML v1.0//EN
CALSCALE:GREGORIAN
METHOD:PUBLISH
X-WR-CALNAME:Mairie d&#039;Eaunes
X-ORIGINAL-URL:https://www.mediaeaunes.fr
X-WR-CALDESC:évènements pour Mairie d&#039;Eaunes
REFRESH-INTERVAL;VALUE=DURATION:PT1H
X-Robots-Tag:noindex
X-PUBLISHED-TTL:PT1H
BEGIN:VTIMEZONE
TZID:Europe/Paris
BEGIN:DAYLIGHT
TZOFFSETFROM:+0100
TZOFFSETTO:+0200
TZNAME:CEST
DTSTART:20230326T010000
END:DAYLIGHT
BEGIN:STANDARD
TZOFFSETFROM:+0200
TZOFFSETTO:+0100
TZNAME:CET
DTSTART:20231029T010000
END:STANDARD
BEGIN:DAYLIGHT
TZOFFSETFROM:+0100
TZOFFSETTO:+0200
TZNAME:CEST
DTSTART:20240331T010000
END:DAYLIGHT
BEGIN:STANDARD
TZOFFSETFROM:+0200
TZOFFSETTO:+0100
TZNAME:CET
DTSTART:20241027T010000
END:STANDARD
BEGIN:DAYLIGHT
TZOFFSETFROM:+0100
TZOFFSETTO:+0200
TZNAME:CEST
DTSTART:20250330T010000
END:DAYLIGHT
BEGIN:STANDARD
TZOFFSETFROM:+0200
TZOFFSETTO:+0100
TZNAME:CET
DTSTART:20251026T010000
END:STANDARD
END:VTIMEZONE
BEGIN:VEVENT
DTSTART;TZID=Europe/Paris:20250831T140000
DTEND;TZID=Europe/Paris:20250831T170000
DTSTAMP:20260421T162336
CREATED:20250813T122950Z
LAST-MODIFIED:20250813T122952Z
UID:10000535-1756648800-1756659600@www.mediaeaunes.fr
SUMMARY:Forum des associations spécial "Eaunes'Lympiades"
DESCRIPTION:Venez rencontrer les associations eaunoises lors d’un après-midi convivial\, rythmé par des animations et une buvette\, proposées par Jeunesse Loisirs Eaunes et l’Espace Jeunes. \n\n\n\nBonus : l’Espace Jeunes organise une tombola pour tenter de remporter un dossard pour l’événement des Amaz’Eaunes du 14 septembre ! \n\n\n\nUn moment festif à ne pas manquer pour découvrir\, s’informer… et s’inscrire ! \n\n\n\n\nDimanche 31 août\n\n\n\n14h00-17h00\n\n\n\nParc de l’abbaye
URL:https://www.mediaeaunes.fr/evenement/forum-des-associations-special-eauneslympiades/
LOCATION:Parc de l’Abbaye\, 785 Avenue de la Mairie\, Eaunes\, 31600\, France
CATEGORIES:Animation,Associations,Evénement annuel
ATTACH;FMTTYPE=image/png:https://www.mediaeaunes.fr/wp-content/uploads/2025/08/forum-des-associations-affiche-20251.png
ORGANIZER;CN="Service%20associations":MAILTO:service.associations@mairieaunes.fr
END:VEVENT
BEGIN:VEVENT
DTSTART;TZID=Europe/Paris:20240901T140000
DTEND;TZID=Europe/Paris:20240901T180000
DTSTAMP:20260421T162336
CREATED:20240820T082839Z
LAST-MODIFIED:20240820T082841Z
UID:10000448-1725199200-1725213600@www.mediaeaunes.fr
SUMMARY:Forum des associations olympique
DESCRIPTION:Ne manquez pas le forum des associations\, l’événement incontournable de la rentrée\, pour découvrir les différentes associations de la commune ! \n\n\n\n2024 étant une année olympique\, les enfants auront l’occasion\, munis d’un carnet de bord\, de découvrir chaque stand associatif et de profiter des jeux gonflables ainsi que des tatouages éphémères ! \n\n\n\n\nDimanche 1er septembre \n\n\n\nÀ partir de 14h00\n\n\n\nParc de l’abbaye\n\n\n\nGratuit
URL:https://www.mediaeaunes.fr/evenement/forum-des-associations-olympique/
LOCATION:Parc de l’Abbaye\, 785 Avenue de la Mairie\, Eaunes\, 31600\, France
CATEGORIES:Animation,Associations,Culture,Evénement annuel
ATTACH;FMTTYPE=image/png:https://www.mediaeaunes.fr/wp-content/uploads/2024/08/Affiche-forum-olympique-recto.png
ORGANIZER;CN="Service%20associations":MAILTO:service.associations@mairieaunes.fr
END:VEVENT
BEGIN:VEVENT
DTSTART;TZID=Europe/Paris:20230903T140000
DTEND;TZID=Europe/Paris:20230903T180000
DTSTAMP:20260421T162336
CREATED:20230808T144602Z
LAST-MODIFIED:20230808T144604Z
UID:10000374-1693749600-1693764000@www.mediaeaunes.fr
SUMMARY:Forum des associations
DESCRIPTION:Le forum des associations est le rendez-vous incontournable pour découvrir l’ensemble des associations eaunoises. \n\n\n\nSport\, musique\, théâtre\, danse\, loisirs créatifs… Il y en a pour tous les goûts ! N’attendez plus\, pour vous renseigner et vous inscrire ! \n\n\n\nGratuit
URL:https://www.mediaeaunes.fr/evenement/forum-des-associations-2/
LOCATION:Parc de l’Abbaye\, 785 Avenue de la Mairie\, Eaunes\, 31600\, France
CATEGORIES:Associations
ATTACH;FMTTYPE=image/jpeg:https://www.mediaeaunes.fr/wp-content/uploads/2023/08/forum-asso-image-site-web.jpg
ORGANIZER;CN="Service%20associations":MAILTO:service.associations@mairieaunes.fr
END:VEVENT
END:VCALENDAR